{"text_format":"1","workbook":"xlsx","n_sheets":9,"sheets":["koreny","odcitatko","delime","syndromy","GFproGPON","delitko","zbytek","List1","List3"],"not_rendered":{"charts":0,"images":0,"macros":1,"external_links":0,"defined_names":0,"comments":0,"pivot_tables":0},"unopened":[],"bounds":{"document_bytes":16777216,"sheet_cells":100000,"rows_first":2000,"rows_last":500,"rows_between":2000,"halvings":0,"cell_chars":16384,"cell_head_chars":4096},"cells_cut":0,"cells_raw":0,"read":"whole","date_system":"1900"}

{"sheet":"koreny","index":0,"n_rows":94,"n_cols":24,"rows_kept":94,"cut":false,"hidden":false,"merged":[]}
[null,null,"Galoas","field",null,"symbols"]
[]
[null,null,"Polynom","power","mocnina","vector","4-tuple"]
[null,null,"DoDo","prepresent.","kořene",3,2,1,0,null,null,null,null,"Generující polynom"]
[]
[null,null,null,0,"minusnek",0,0,0,0,null,null,null,null,4,3,2,1,0]
[null,null,null,"α0",0,0,0,0,1,null,null,null,null,1,0,0,1,1,null,"ten se dá změnit"]
[null,null,null,"α1",1,0,0,1,0]
[null,null,null,"α2",2,0,1,0,0,null,null,null,null,1,0,0,1,1,null,"tohle je pro NASA "]
[null,null,null,"α3",3,1,0,0,0]
[null,null,null,"α4",4,{"$f":"O7","v":0},{"$f":"P7","v":0},1,1,null,null,null,null,{"$f":"F11","v":0},{"$f":"G11","v":0},1,1,0,null,null,{"$f":"$N11*O$7","v":0},{"$f":"$N11*P$7","v":0},0,0]
[null,null,null,"α5",5,{"$f":"IF(_xlfn.XOR(O11,U11), 1, 0)","v":0},{"$f":"IF(_xlfn.XOR(P11,V11), 1, 0)","v":1},1,0,null,null,null,null,{"$f":"F12","v":0},{"$f":"G12","v":1},{"$f":"H12","v":1},{"$f":"I12","v":0},0,null,null,{"$f":"$N12*O$7","v":0},{"$f":"$N12*P$7","v":0},{"$f":"$N12*Q$7","v":0},{"$f":"$N12*R$7","v":0}]
[null,null,null,"α6",6,{"$f":"IF(_xlfn.XOR(O12,U12), 1, 0)","v":1},{"$f":"IF(_xlfn.XOR(P12,V12), 1, 0)","v":1},{"$f":"IF(_xlfn.XOR(Q12,W12), 1, 0)","v":0},{"$f":"IF(_xlfn.XOR(R12,X12), 1, 0)","v":0},null,null,null,null,{"$f":"F13","v":1},{"$f":"G13","v":1},{"$f":"H13","v":0},{"$f":"I13","v":0},0,null,null,{"$f":"$N13*O$7","v":0},{"$f":"$N13*P$7","v":0},{"$f":"$N13*Q$7","v":1},{"$f":"$N13*R$7","v":1}]
[null,null,null,"α7",7,{"$f":"IF(_xlfn.XOR(O13,U13), 1, 0)","v":1},{"$f":"IF(_xlfn.XOR(P13,V13), 1, 0)","v":0},{"$f":"IF(_xlfn.XOR(Q13,W13), 1, 0)","v":1},{"$f":"IF(_xlfn.XOR(R13,X13), 1, 0)","v":1},null,null,null,null,{"$f":"F14","v":1},{"$f":"G14","v":0},{"$f":"H14","v":1},{"$f":"I14","v":1},0,null,null,{"$f":"$N14*O$7","v":0},{"$f":"$N14*P$7","v":0},{"$f":"$N14*Q$7","v":1},{"$f":"$N14*R$7","v":1}]
[null,null,null,"α8",8,{"$f":"IF(_xlfn.XOR(O14,U14), 1, 0)","v":0},{"$f":"IF(_xlfn.XOR(P14,V14), 1, 0)","v":1},{"$f":"IF(_xlfn.XOR(Q14,W14), 1, 0)","v":0},{"$f":"IF(_xlfn.XOR(R14,X14), 1, 0)","v":1},null,null,null,null,0,1,0,1,0,null,null,0,0,0,0]
[null,null,null,"α9",9,1,0,1,0,null,null,null,null,1,0,1,0,0,null,null,0,0,1,1]
[null,null,null,"α10",10,0,1,1,1,null,null,null,null,0,1,1,1,0,null,null,0,0,0,0]
[null,null,null,"α11",11,1,1,1,0,null,null,null,null,1,1,1,0,0,null,null,0,0,1,1]
[null,null,null,"α12",12,1,1,1,1,null,null,null,null,1,1,1,1,0,null,null,0,0,1,1]
[null,null,null,"α13",13,1,1,0,1,null,null,null,null,1,1,0,1,0,null,null,0,0,1,1]
[null,null,null,"α14",14,1,0,0,1,null,null,null,null,1,0,0,1,0,null,null,0,0,1,1]
[null,null,"Tady se to cyklí","α15",15,0,0,0,1,null,null,null,null,0,0,0,1,0,null,null,0,0,0,0]
[null,null,null,"α16",16,0,0,1,0,null,null,null,null,0,0,1,0,0,null,null,0,0,0,0]
[null,null,null,"α17",17,0,1,0,0,null,null,null,null,0,1,0,0,0,null,null,0,0,0,0]
[null,null,null,null,18,1,0,0,0,null,null,null,null,1,0,0,0,0,null,null,0,0,1,1]
[null,null,null,null,19,0,0,1,1,null,null,null,null,0,0,1,1,0,null,null,0,0,0,0]
[null,null,null,null,20,0,1,1,0,null,null,null,null,0,1,1,0,0,null,null,0,0,0,0]
[null,null,null,null,21,1,1,0,0,null,null,null,null,1,1,0,0,0,null,null,0,0,1,1]
[null,null,null,null,22,1,0,1,1,null,null,null,null,1,0,1,1,0,null,null,0,0,1,1]
[null,null,null,null,23,0,1,0,1,null,null,null,null,0,1,0,1,0,null,null,0,0,0,0]
[null,null,null,null,24,1,0,1,0,null,null,null,null,1,0,1,0,0,null,null,0,0,1,1]
[null,null,null,null,25,0,1,1,1,null,null,null,null,0,1,1,1,0,null,null,0,0,0,0]
[null,null,null,null,26,1,1,1,0,null,null,null,null,1,1,1,0,0,null,null,0,0,1,1]
[null,null,null,null,27,1,1,1,1,null,null,null,null,1,1,1,1,0,null,null,0,0,1,1]
[null,null,null,null,28,1,1,0,1,null,null,null,null,1,1,0,1,0,null,null,0,0,1,1]
[null,null,null,null,29,1,0,0,1,null,null,null,null,1,0,0,1,0,null,null,0,0,1,1]
[null,null,null,null,30,0,0,0,1,null,null,null,null,0,0,0,1,0,null,null,0,0,0,0]
[null,null,null,null,31,0,0,1,0,null,null,null,null,0,0,1,0,0,null,null,0,0,0,0]
[null,null,null,null,32,0,1,0,0,null,null,null,null,0,1,0,0,0,null,null,0,0,0,0]
[null,null,null,null,33,1,0,0,0,null,null,null,null,1,0,0,0,0,null,null,0,0,1,1]
[null,null,null,null,34,0,0,1,1,null,null,null,null,0,0,1,1,0,null,null,0,0,0,0]
[null,null,null,null,35,0,1,1,0,null,null,null,null,0,1,1,0,0,null,null,0,0,0,0]
[null,null,null,null,36,1,1,0,0,null,null,null,null,1,1,0,0,0,null,null,0,0,1,1]
[null,null,null,null,37,1,0,1,1,null,null,null,null,1,0,1,1,0,null,null,0,0,1,1]
[null,null,null,null,38,0,1,0,1,null,null,null,null,0,1,0,1,0,null,null,0,0,0,0]
[null,null,null,null,39,1,0,1,0,null,null,null,null,1,0,1,0,0,null,null,0,0,1,1]
[null,null,null,null,40,0,1,1,1,null,null,null,null,0,1,1,1,0,null,null,0,0,0,0]
[null,null,null,null,41,1,1,1,0,null,null,null,null,1,1,1,0,0,null,null,0,0,1,1]
[null,null,null,null,42,1,1,1,1,null,null,null,null,1,1,1,1,0,null,null,0,0,1,1]
[null,null,null,null,43,1,1,0,1,null,null,null,null,1,1,0,1,0,null,null,0,0,1,1]
[null,null,null,null,44,1,0,0,1,null,null,null,null,1,0,0,1,0,null,null,0,0,1,1]
[null,null,null,null,45,0,0,0,1,null,null,null,null,0,0,0,1,0,null,null,0,0,0,0]
[null,null,null,null,46,0,0,1,0,null,null,null,null,0,0,1,0,0,null,null,0,0,0,0]
[null,null,null,null,47,0,1,0,0,null,null,null,null,0,1,0,0,0,null,null,0,0,0,0]
[null,null,null,null,48,1,0,0,0,null,null,null,null,1,0,0,0,0,null,null,0,0,1,1]
[null,null,null,null,49,0,0,1,1,null,null,null,null,0,0,1,1,0,null,null,0,0,0,0]
[null,null,null,null,50,0,1,1,0,null,null,null,null,0,1,1,0,0,null,null,0,0,0,0]
[null,null,null,null,null,1,1,0,0,null,null,null,null,1,1,0,0,0,null,null,0,0,1,1]
[null,null,null,null,null,1,0,1,1,null,null,null,null,1,0,1,1,0,null,null,0,0,1,1]
[null,null,null,null,null,0,1,0,1,null,null,null,null,0,1,0,1,0,null,null,0,0,0,0]
[null,null,null,null,null,1,0,1,0,null,null,null,null,1,0,1,0,0,null,null,0,0,1,1]
[null,null,null,null,null,0,1,1,1,null,null,null,null,0,1,1,1,0,null,null,0,0,0,0]
[null,null,null,null,null,1,1,1,0,null,null,null,null,1,1,1,0,0,null,null,0,0,1,1]
[null,null,null,null,null,1,1,1,1,null,null,null,null,1,1,1,1,0,null,null,0,0,1,1]
[null,null,null,null,null,1,1,0,1,null,null,null,null,1,1,0,1,0,null,null,0,0,1,1]
[null,null,null,null,null,1,0,0,1,null,null,null,null,1,0,0,1,0,null,null,0,0,1,1]
[null,null,null,null,null,0,0,0,1,null,null,null,null,0,0,0,1,0,null,null,0,0,0,0]
[null,null,null,null,null,0,0,1,0,null,null,null,null,0,0,1,0,0,null,null,0,0,0,0]
[null,null,null,null,null,0,1,0,0,null,null,null,null,0,1,0,0,0,null,null,0,0,0,0]
[null,null,null,null,null,1,0,0,0,null,null,null,null,1,0,0,0,0,null,null,0,0,1,1]
[null,null,null,null,null,0,0,1,1,null,null,null,null,0,0,1,1,0,null,null,0,0,0,0]
[null,null,null,null,null,0,1,1,0,null,null,null,null,0,1,1,0,0,null,null,0,0,0,0]
[null,null,null,null,null,1,1,0,0,null,null,null,null,1,1,0,0,0,null,null,0,0,1,1]
[null,null,null,null,null,1,0,1,1,null,null,null,null,1,0,1,1,0,null,null,0,0,1,1]
[null,null,null,null,null,0,1,0,1,null,null,null,null,0,1,0,1,0,null,null,0,0,0,0]
[null,null,null,null,null,1,0,1,0,null,null,null,null,1,0,1,0,0,null,null,0,0,1,1]
[null,null,null,null,null,0,1,1,1,null,null,null,null,0,1,1,1,0,null,null,0,0,0,0]
[null,null,null,null,null,{"$f":"IF(_xlfn.XOR(O77,U77), 1, 0)","v":1},{"$f":"IF(_xlfn.XOR(P77,V77), 1, 0)","v":1},{"$f":"IF(_xlfn.XOR(Q77,W77), 1, 0)","v":1},{"$f":"IF(_xlfn.XOR(R77,X77), 1, 0)","v":0},null,null,null,null,{"$f":"F78","v":1},{"$f":"G78","v":1},{"$f":"H78","v":1},{"$f":"I78","v":0},0,null,null,{"$f":"$N78*O$7","v":0},{"$f":"$N78*P$7","v":0},{"$f":"$N78*Q$7","v":1},{"$f":"$N78*R$7","v":1}]
[null,null,null,null,null,1,1,1,1,null,null,null,null,1,1,1,1,0,null,null,0,0,1,1]
[null,null,null,null,null,1,1,0,1,null,null,null,null,1,1,0,1,0,null,null,0,0,1,1]
[null,null,null,null,null,1,0,0,1,null,null,null,null,1,0,0,1,0,null,null,0,0,1,1]
[null,null,null,null,null,0,0,0,1,null,null,null,null,0,0,0,1,0,null,null,0,0,0,0]
[null,null,null,null,null,0,0,1,0,null,null,null,null,0,0,1,0,0,null,null,0,0,0,0]
[null,null,null,null,null,0,1,0,0,null,null,null,null,0,1,0,0,0,null,null,0,0,0,0]
[null,null,null,null,null,1,0,0,0,null,null,null,null,1,0,0,0,0,null,null,0,0,1,1]
[null,null,null,null,null,0,0,1,1,null,null,null,null,0,0,1,1,0,null,null,0,0,0,0]
[null,null,null,null,null,0,1,1,0,null,null,null,null,0,1,1,0,0,null,null,0,0,0,0]
[null,null,null,null,null,1,1,0,0,null,null,null,null,1,1,0,0,0,null,null,0,0,1,1]
[null,null,null,null,null,1,0,1,1,null,null,null,null,1,0,1,1,0,null,null,0,0,1,1]
[null,null,null,null,null,0,1,0,1,null,null,null,null,0,1,0,1,0,null,null,0,0,0,0]
[null,null,null,null,null,1,0,1,0,null,null,null,null,1,0,1,0,0,null,null,0,0,1,1]
[null,null,null,null,null,0,1,1,1,null,null,null,null,0,1,1,1,0,null,null,0,0,0,0]
[null,null,null,null,null,1,1,1,0,null,null,null,null,1,1,1,0,0,null,null,0,0,1,1]
[null,null,null,null,null,1,1,1,1,null,null,null,null,1,1,1,1,0,null,null,0,0,1,1]

{"sheet":"odcitatko","index":1,"n_rows":33,"n_cols":21,"rows_kept":33,"cut":false,"hidden":false,"merged":[]}
[]
[]
[]
[]
[null,null,null,"menšenec",null,1,1,1,0]
[null,null,null,"menšitel",null,0,1,0,1]
[null,null,null,"rozdíl",null,{"$f":"IF(_xlfn.XOR(F5,F6),1,0)","v":1},0,{"$f":"IF(_xlfn.XOR(H5,H6),1,0)","v":1},{"$f":"IF(_xlfn.XOR(I5,I6),1,0)","v":1}]
[]
[]
[null,null,null,"TOHLE",null,"Tohle je sčítátko pro kalkulaci syndromů"]
[null,null,null,"SCITAME",null,null,null,null,null,null,null,null,null,null,"Galoas field"]
[]
[null,null,null,"mocnina",null,null,null,null,null,null,null,null,"minusnek",-100,{"$f":"koreny!F6","v":0},{"$f":"koreny!G6","v":0},{"$f":"koreny!H6","v":0},{"$f":"koreny!I6","v":0},null,{"$f":"IF((_xlfn.XOR(F$32,O13) + _xlfn.XOR(G$32,P13) +  _xlfn.XOR(H$32,Q13) + _xlfn.XOR(I$32,R13)) = 0, 1, 0 )","v":0},{"$f":"T13*N13","v":0}]
[null,null,null,"alfa",null,null,null,null,null,null,null,null,null,0,{"$f":"koreny!F7","v":0},{"$f":"koreny!G7","v":0},{"$f":"koreny!H7","v":0},{"$f":"koreny!I7","v":1},null,{"$f":"IF((_xlfn.XOR(F$32,O14) + _xlfn.XOR(G$32,P14) +  _xlfn.XOR(H$32,Q14) + _xlfn.XOR(I$32,R14)) = 0, 1, 0 )","v":0},{"$f":"T14*N14","v":0}]
[null,null,null,null,null,null,null,null,null,null,null,null,null,1,{"$f":"koreny!F8","v":0},{"$f":"koreny!G8","v":0},{"$f":"koreny!H8","v":1},{"$f":"koreny!I8","v":0},null,0,{"$f":"T15*N15","v":0}]
[null,null,"odtud",12,null,{"$f":"INDIRECT(\"O\"&$M16)","v":1},{"$f":"INDIRECT(\"P\"&$M16)","v":1},{"$f":"INDIRECT(\"Q\"&$M16)","v":1},{"$f":"INDIRECT(\"R\"&$M16)","v":1},null,null,null,{"$f":"IF(ISNUMBER(D16),  14+D16, 13)","v":26},2,{"$f":"koreny!F9","v":0},{"$f":"koreny!G9","v":1},{"$f":"koreny!H9","v":0},{"$f":"koreny!I9","v":0},null,1,2]
[null,null,null,7,null,{"$f":"INDIRECT(\"O\"&$M17)","v":1},{"$f":"INDIRECT(\"P\"&$M17)","v":0},{"$f":"INDIRECT(\"Q\"&$M17)","v":1},{"$f":"INDIRECT(\"R\"&$M17)","v":1},null,null,null,{"$f":"IF(ISNUMBER(D17),  14+D17, 13)","v":21},3,{"$f":"koreny!F10","v":1},{"$f":"koreny!G10","v":0},{"$f":"koreny!H10","v":0},{"$f":"koreny!I10","v":0},null,0,0]
[null," ",null,null,null,{"$f":"INDIRECT(\"O\"&$M18)","v":0},{"$f":"INDIRECT(\"P\"&$M18)","v":0},{"$f":"INDIRECT(\"Q\"&$M18)","v":0},{"$f":"INDIRECT(\"R\"&$M18)","v":0},null,null,null,13,4,{"$f":"koreny!F11","v":0},{"$f":"koreny!G11","v":0},{"$f":"koreny!H11","v":1},{"$f":"koreny!I11","v":1},null,0,0]
[null,null," ",null,null,{"$f":"INDIRECT(\"O\"&$M19)","v":0},{"$f":"INDIRECT(\"P\"&$M19)","v":0},{"$f":"INDIRECT(\"Q\"&$M19)","v":0},{"$f":"INDIRECT(\"R\"&$M19)","v":0},null,null,null,13,5,{"$f":"koreny!F12","v":0},{"$f":"koreny!G12","v":1},{"$f":"koreny!H12","v":1},{"$f":"koreny!I12","v":0},null,0,0]
[null,null," ",null,null,{"$f":"INDIRECT(\"O\"&$M20)","v":0},{"$f":"INDIRECT(\"P\"&$M20)","v":0},{"$f":"INDIRECT(\"Q\"&$M20)","v":0},{"$f":"INDIRECT(\"R\"&$M20)","v":0},null,null,null,13,6,{"$f":"koreny!F13","v":1},{"$f":"koreny!G13","v":1},{"$f":"koreny!H13","v":0},{"$f":"koreny!I13","v":0},null,0,0]
[null,null,null,null,null,{"$f":"INDIRECT(\"O\"&$M21)","v":0},{"$f":"INDIRECT(\"P\"&$M21)","v":0},{"$f":"INDIRECT(\"Q\"&$M21)","v":0},{"$f":"INDIRECT(\"R\"&$M21)","v":0},null,null,null,13,7,{"$f":"koreny!F14","v":1},{"$f":"koreny!G14","v":0},{"$f":"koreny!H14","v":1},{"$f":"koreny!I14","v":1},null,0,0]
[null,null,null,null,null,{"$f":"INDIRECT(\"O\"&$M22)","v":0},{"$f":"INDIRECT(\"P\"&$M22)","v":0},{"$f":"INDIRECT(\"Q\"&$M22)","v":0},{"$f":"INDIRECT(\"R\"&$M22)","v":0},null,null,null,13,8,{"$f":"koreny!F15","v":0},{"$f":"koreny!G15","v":1},{"$f":"koreny!H15","v":0},{"$f":"koreny!I15","v":1},null,0,0]
[null,null,null,null,null,{"$f":"INDIRECT(\"O\"&$M23)","v":0},{"$f":"INDIRECT(\"P\"&$M23)","v":0},{"$f":"INDIRECT(\"Q\"&$M23)","v":0},{"$f":"INDIRECT(\"R\"&$M23)","v":0},null,null,null,13,9,{"$f":"koreny!F16","v":1},{"$f":"koreny!G16","v":0},{"$f":"koreny!H16","v":1},{"$f":"koreny!I16","v":0},null,0,0]
[null,null,null,null,null,{"$f":"INDIRECT(\"O\"&$M24)","v":0},{"$f":"INDIRECT(\"P\"&$M24)","v":0},{"$f":"INDIRECT(\"Q\"&$M24)","v":0},{"$f":"INDIRECT(\"R\"&$M24)","v":0},null,null,null,13,10,{"$f":"koreny!F17","v":0},{"$f":"koreny!G17","v":1},{"$f":"koreny!H17","v":1},{"$f":"koreny!I17","v":1},null,0,0]
[null,null,null,null,null,{"$f":"INDIRECT(\"O\"&$M25)","v":0},{"$f":"INDIRECT(\"P\"&$M25)","v":0},{"$f":"INDIRECT(\"Q\"&$M25)","v":0},{"$f":"INDIRECT(\"R\"&$M25)","v":0},null,null,null,13,11,{"$f":"koreny!F18","v":1},{"$f":"koreny!G18","v":1},{"$f":"koreny!H18","v":1},{"$f":"koreny!I18","v":0},null,0,0]
[null,null,null,null,null,{"$f":"INDIRECT(\"O\"&$M26)","v":0},{"$f":"INDIRECT(\"P\"&$M26)","v":0},{"$f":"INDIRECT(\"Q\"&$M26)","v":0},{"$f":"INDIRECT(\"R\"&$M26)","v":0},null,null,null,13,12,{"$f":"koreny!F19","v":1},{"$f":"koreny!G19","v":1},{"$f":"koreny!H19","v":1},{"$f":"koreny!I19","v":1},null,0,0]
[null,null,null,null,null,{"$f":"INDIRECT(\"O\"&$M27)","v":0},{"$f":"INDIRECT(\"P\"&$M27)","v":0},{"$f":"INDIRECT(\"Q\"&$M27)","v":0},{"$f":"INDIRECT(\"R\"&$M27)","v":0},null,null,null,13,13,{"$f":"koreny!F20","v":1},{"$f":"koreny!G20","v":1},{"$f":"koreny!H20","v":0},{"$f":"koreny!I20","v":1},null,0,0]
[null,null,null,null,null,{"$f":"INDIRECT(\"O\"&$M28)","v":0},{"$f":"INDIRECT(\"P\"&$M28)","v":0},{"$f":"INDIRECT(\"Q\"&$M28)","v":0},{"$f":"INDIRECT(\"R\"&$M28)","v":0},null,null,null,13,14,{"$f":"koreny!F21","v":1},{"$f":"koreny!G21","v":0},{"$f":"koreny!H21","v":0},{"$f":"koreny!I21","v":1},null,0,0]
[null,null,"konec",null,null,{"$f":"INDIRECT(\"O\"&$M29)","v":0},{"$f":"INDIRECT(\"P\"&$M29)","v":0},{"$f":"INDIRECT(\"Q\"&$M29)","v":0},{"$f":"INDIRECT(\"R\"&$M29)","v":0},null,null,null,13,15,{"$f":"koreny!F22","v":0},{"$f":"koreny!G22","v":0},{"$f":"koreny!H22","v":0},{"$f":"koreny!I22","v":1}]
[null,null,null,null,null,null,null,null,null,null,null,null,null,16,{"$f":"koreny!F23","v":0},{"$f":"koreny!G23","v":0},{"$f":"koreny!H23","v":1},{"$f":"koreny!I23","v":0}]
[null,null,"součet arit.",null,null,{"$f":"SUM(F16:F29)","v":2},{"$f":"SUM(G16:G29)","v":1},2,2,null,null,null,null,17,{"$f":"koreny!F24","v":0},{"$f":"koreny!G24","v":1},{"$f":"koreny!H24","v":0},{"$f":"koreny!I24","v":0}]
[null,null,"a modulo 2",{"$f":"U33","v":2},"SOUCET ",{"$f":"MOD(F31,2)","v":0},{"$f":"MOD(G31,2)","v":1},0,0,null,null,null,null,18,{"$f":"koreny!F25","v":1},{"$f":"koreny!G25","v":0},{"$f":"koreny!H25","v":0},{"$f":"koreny!I25","v":0}]
[null,null,null,null,null,null,null,null,null,null,null,null,null,19,{"$f":"koreny!F26","v":0},{"$f":"koreny!G26","v":0},{"$f":"koreny!H26","v":1},{"$f":"koreny!I26","v":1},null,null,{"$f":"SUM(U13:U28)","v":2}]

{"sheet":"delime","index":2,"n_rows":44,"n_cols":39,"rows_kept":44,"cut":false,"hidden":false,"merged":[]}
[null,null,"Delitko opraveno ",null,null,null,null,null,null,null,null,null,null,"!N","!N","!N","!N","!N","!N"]
[null,null,"je nutno spustit makro Cntrl a         a je malé a ",null,null,null,null,null,null,null,null,null,"dělenec",null,null,null,null,null,null,null,null,null,"Delitel"]
[null,null,null,null,null,null,null,null,null,null,null,null,"eeee"]
[null,null,null,null,"X14","X13","X12","X11","X10"," X9 ","X8","X7  ","X6","X5 ","X4","X3","X2","X1",1,null,null,"X6","X5 ","X4","X3","X2","X1",1]
[null,null,"mocnina u X",null,14,13,12,11,10,9,8,7,6,5,4,3,2,1,0,null,null,6,5,4,3,2,1,0,null,null,null,-100,{"$f":"koreny!F6","v":0},{"$f":"koreny!G6","v":0},{"$f":"koreny!H6","v":0},{"$f":"koreny!I6","v":0},null,{"$f":"IF((_xlfn.XOR(AB$17,AG5) + _xlfn.XOR(AC$17,AH5) +  _xlfn.XOR(AD$17,AI5) + _xlfn.XOR(AE$17,AJ5)) = 0, 1, 0 )","v":1},{"$f":"AL5*AF5","v":-100}]
[null,null,"koeficient u alfa",null,"!N","!N","!N","!N","!N","!N","!N",11,"!N",8,10,4,14,8,12,null,null,0,10,14,4,6,9,6,null,null,null,0,{"$f":"koreny!F7","v":0},{"$f":"koreny!G7","v":0},{"$f":"koreny!H7","v":0},{"$f":"koreny!I7","v":1},null,{"$f":"IF((_xlfn.XOR(AB$17,AG6) + _xlfn.XOR(AC$17,AH6) +  _xlfn.XOR(AD$17,AI6) + _xlfn.XOR(AE$17,AJ6)) = 0, 1, 0 )","v":0},{"$f":"AL6*AF6","v":0}]
[null,null,null,null,null,null,null,null,null,null,null,null,null,null,null,null,null,null,null,null,null,null,null,null,null,null,null,null,null,null,null,1,{"$f":"koreny!F8","v":0},{"$f":"koreny!G8","v":0},{"$f":"koreny!H8","v":1},{"$f":"koreny!I8","v":0},null,0,0]
[null,null,"poscitano",null,{"$f":"IF(ISNUMBER($E$6),   $E$6+V6, \"!N\")","v":"!N"},{"$f":"IF(ISNUMBER($E$6),   $E$6+W6, \"!N\")","v":"!N"},"!N","!N","!N","!N","!N",null,null,null,null,null,null,null,null,null,null,null,null,null,null,null,null,null,null,null,null,2,{"$f":"koreny!F9","v":0},{"$f":"koreny!G9","v":1},{"$f":"koreny!H9","v":0},{"$f":"koreny!I9","v":0},null,0,0]
[null,null,"odcykleno",null,{"$f":"IF(ISNUMBER(E8),IF(E8>14,E8-15,E8), \"!N\")","v":"!N"},{"$f":"IF(ISNUMBER(F8),IF(F8>14,F8-15,F8), \"!N\")","v":"!N"},"!N","!N","!N","!N","!N",null,null,null,null,null,null,null,null,null,null,null,null,null,null,null,null,null,null,null,null,3,{"$f":"koreny!F10","v":1},{"$f":"koreny!G10","v":0},{"$f":"koreny!H10","v":0},{"$f":"koreny!I10","v":0},null,0,0]
[null,null,"odecteno",null,"!N","!N","!N","!N","!N","!N","!N",{"$f":"L6","v":11},{"$f":"M6","v":"!N"},8,10,4,14,8,12,null,null,null,null,null,null,null,null,null,null,null,null,4,{"$f":"koreny!F11","v":0},{"$f":"koreny!G11","v":0},{"$f":"koreny!H11","v":1},{"$f":"koreny!I11","v":1},null,0,0]
[null,null,null,null,null,null,null,null,null,null,null,null,null,null,null,null,null,null,null,null,null,null,null,null,"scit",12,{"$f":"IF(ISNUMBER(Z11),  6+Z11, 5)","v":18},null,null,null,null,5,{"$f":"koreny!F12","v":0},{"$f":"koreny!G12","v":1},{"$f":"koreny!H12","v":1},{"$f":"koreny!I12","v":0},null,0,0]
[null,null,"poscitano",null," ",{"$f":"IF(ISNUMBER($F$10),   $F$10+V6, \"!N\")","v":"!N"},{"$f":"IF(ISNUMBER($F$10),   $F$10+W6, \"!N\")","v":"!N"},"!N","!N","!N","!N","!N",null,null,null,null,null,null,null,null,null,null,null,null,"cscit",12,{"$f":"IF(ISNUMBER(Z12),  6+Z12, 5)","v":18},null,null,null,null,6,{"$f":"koreny!F13","v":1},{"$f":"koreny!G13","v":1},{"$f":"koreny!H13","v":0},{"$f":"koreny!I13","v":0},null,0,0]
[null,null,"odcykleno",null," ",{"$f":"IF(ISNUMBER(F12),IF(F12>14,F12-15,F12), \"!N\")","v":"!N"},{"$f":"IF(ISNUMBER(G12),IF(G12>14,G12-15,G12), \"!N\")","v":"!N"},{"$f":"IF(ISNUMBER(H12),IF(H12>14,H12-15,H12), \"!N\")","v":"!N"},{"$f":"IF(ISNUMBER(I12),IF(I12>14,I12-15,I12), \"!N\")","v":"!N"},{"$f":"IF(ISNUMBER(J12),IF(J12>14,J12-15,J12), \"!N\")","v":"!N"},{"$f":"IF(ISNUMBER(K12),IF(K12>14,K12-15,K12), \"!N\")","v":"!N"},{"$f":"IF(ISNUMBER(L12),IF(L12>14,L12-15,L12), \"!N\")","v":"!N"}," "," "," "," "," "," "," ",null,null,null,null,null,null," ",null,null,null,null,null,7,{"$f":"koreny!F14","v":1},{"$f":"koreny!G14","v":0},{"$f":"koreny!H14","v":1},{"$f":"koreny!I14","v":1},null,0,0]
[null,null,"odecteno",null,null,"!N","!N","!N","!N","!N","!N",11,{"$f":"M10","v":"!N"},{"$f":"N10","v":8},{"$f":"O10","v":10},4,14,8,12,null,null,null,null,null,null,null,null,{"$f":"INDIRECT(\"AG\"&$AA11)","v":1},{"$f":"INDIRECT(\"AH\"&$AA11)","v":1},{"$f":"INDIRECT(\"AI\"&$AA11)","v":1},{"$f":"INDIRECT(\"AJ\"&$AA11)","v":1},8,{"$f":"koreny!F15","v":0},{"$f":"koreny!G15","v":1},{"$f":"koreny!H15","v":0},{"$f":"koreny!I15","v":1},null,0,0]
[null,null,null,null,null,null,null,null,null,null,null,null,null,null,null,null,null,null,null,null,null,null,null,null,null,null,null,{"$f":"INDIRECT(\"AG\"&$AA12)","v":1},{"$f":"INDIRECT(\"AH\"&$AA12)","v":1},{"$f":"INDIRECT(\"AI\"&$AA12)","v":1},{"$f":"INDIRECT(\"AJ\"&$AA12)","v":1},9,{"$f":"koreny!F16","v":1},{"$f":"koreny!G16","v":0},{"$f":"koreny!H16","v":1},{"$f":"koreny!I16","v":0},null,0,0]
[null,null,"poscitano",null," "," ",{"$f":"IF(ISNUMBER($G$14),   $G$14+V6, \"!N\")","v":"!N"},{"$f":"IF(ISNUMBER($G$14),   $G$14+W6, \"!N\")","v":"!N"},"!N","!N","!N","!N","!N"," ",null,null,null,null,null,null,null,null,null,null,null,null,null,null,null,null,null,10,{"$f":"koreny!F17","v":0},{"$f":"koreny!G17","v":1},{"$f":"koreny!H17","v":1},{"$f":"koreny!I17","v":1},null,0,0]
[null,null,"odcykleno",null," "," ",{"$f":"IF(ISNUMBER(G16),IF(G16>14,G16-15,G16), \"!N\")","v":"!N"},{"$f":"IF(ISNUMBER(H16),IF(H16>14,H16-15,H16), \"!N\")","v":"!N"},{"$f":"IF(ISNUMBER(I16),IF(I16>14,I16-15,I16), \"!N\")","v":"!N"},{"$f":"IF(ISNUMBER(J16),IF(J16>14,J16-15,J16), \"!N\")","v":"!N"},{"$f":"IF(ISNUMBER(K16),IF(K16>14,K16-15,K16), \"!N\")","v":"!N"},{"$f":"IF(ISNUMBER(L16),IF(L16>14,L16-15,L16), \"!N\")","v":"!N"},{"$f":"IF(ISNUMBER(M16),IF(M16>14,M16-15,M16), \"!N\")","v":"!N"},{"$f":"N13","v":" "},{"$f":"O13","v":" "}," "," "," "," ",null,null,null,null,null,null,"soucet",{"$f":"SUM(AM5:AM20)","v":-100},{"$f":"IF(_xlfn.XOR(AB14,AB15), 1, 0)","v":0},{"$f":"IF(_xlfn.XOR(AC14,AC15), 1, 0)","v":0},0,0,11,{"$f":"koreny!F18","v":1},{"$f":"koreny!G18","v":1},{"$f":"koreny!H18","v":1},{"$f":"koreny!I18","v":0},null,0,0]
[null,null,"odecteno",null,null,null,"!N","!N","!N","!N","!N",11,"!N",{"$f":"N14","v":8},{"$f":"O14","v":10},4,14,8,12,null,null,null,null,null,null,null,null,null,null,null,null,12,{"$f":"koreny!F19","v":1},{"$f":"koreny!G19","v":1},{"$f":"koreny!H19","v":1},{"$f":"koreny!I19","v":1},null,0,0]
[null,null,null,null,null,null,null,null,null,null,null,null,null,null,null,null,null,null,null,null,null,null,null,null,null,"soucet",{"$f":"IF(AA17= -100, \"!N\", AA17)","v":"!N"},null,null,null,null,13,{"$f":"koreny!F20","v":1},{"$f":"koreny!G20","v":1},{"$f":"koreny!H20","v":0},{"$f":"koreny!I20","v":1},null,0,0]
[null,null,"poscitano",null," "," "," ",{"$f":"IF(ISNUMBER($H$18),   $H$18+V6, \"!N\")","v":"!N"},{"$f":"IF(ISNUMBER($H$18),   $H$18+W6, \"!N\")","v":"!N"},"!N","!N","!N","!N","!N",null,null,null,null,null,null,null,null,null,null,null,null,null,null,null,null,null,14,{"$f":"koreny!F21","v":1},{"$f":"koreny!G21","v":0},{"$f":"koreny!H21","v":0},{"$f":"koreny!I21","v":1},null,0,0]
[null,null,"odcykleno",null," "," "," ",{"$f":"IF(ISNUMBER(H20),IF(H20>14,H20-15,H20), \"!N\")","v":"!N"},{"$f":"IF(ISNUMBER(I20),IF(I20>14,I20-15,I20), \"!N\")","v":"!N"},{"$f":"IF(ISNUMBER(J20),IF(J20>14,J20-15,J20), \"!N\")","v":"!N"},{"$f":"IF(ISNUMBER(K20),IF(K20>14,K20-15,K20), \"!N\")","v":"!N"},{"$f":"IF(ISNUMBER(L20),IF(L20>14,L20-15,L20), \"!N\")","v":"!N"},{"$f":"IF(ISNUMBER(M20),IF(M20>14,M20-15,M20), \"!N\")","v":"!N"},{"$f":"IF(ISNUMBER(N20),IF(N20>14,N20-15,N20), \"!N\")","v":"!N"}," ",null,null,null,null,null,null,null,null,null,null,null,null,null,null,null,null,15,{"$f":"koreny!F22","v":0},{"$f":"koreny!G22","v":0},{"$f":"koreny!H22","v":0},{"$f":"koreny!I22","v":1}]
[null,null,"odecteno",null,null,null,null,"!N","!N","!N","!N",11,"!N",8,{"$f":"O18","v":10},{"$f":"P18","v":4},14,8,12,null,null,null,null,null,null,null,null,null,null,null,null,16,{"$f":"koreny!F23","v":0},{"$f":"koreny!G23","v":0},{"$f":"koreny!H23","v":1},{"$f":"koreny!I23","v":0}]
[null,null,null,null,null,null,null,null,null,null,null,null,null,null,null,null,null,null,null,null,null,null,null,null,null,null,null,null,null,null,null,17,{"$f":"koreny!F24","v":0},{"$f":"koreny!G24","v":1},{"$f":"koreny!H24","v":0},{"$f":"koreny!I24","v":0}]
[null,null,"poscitano",null," "," "," "," ",{"$f":"IF(ISNUMBER($I$22),   $I$22+V6, \"!N\")","v":"!N"},{"$f":"IF(ISNUMBER($I$22),   $I$22+W6, \"!N\")","v":"!N"},"!N","!N","!N","!N","!N",null,null,null,null,null,null,null,null,null,null,null,null,null,null,null,null,18,{"$f":"koreny!F25","v":1},{"$f":"koreny!G25","v":0},{"$f":"koreny!H25","v":0},{"$f":"koreny!I25","v":0}]
[null,null,"odcykleno",null," "," "," "," ",{"$f":"IF(ISNUMBER(I24),IF(I24>14,I24-15,I24), \"!N\")","v":"!N"},{"$f":"IF(ISNUMBER(J24),IF(J24>14,J24-15,J24), \"!N\")","v":"!N"},{"$f":"IF(ISNUMBER(K24),IF(K24>14,K24-15,K24), \"!N\")","v":"!N"},{"$f":"IF(ISNUMBER(L24),IF(L24>14,L24-15,L24), \"!N\")","v":"!N"},{"$f":"IF(ISNUMBER(M24),IF(M24>14,M24-15,M24), \"!N\")","v":"!N"},{"$f":"IF(ISNUMBER(N24),IF(N24>14,N24-15,N24), \"!N\")","v":"!N"},{"$f":"IF(ISNUMBER(O24),IF(O24>14,O24-15,O24), \"!N\")","v":"!N"},null,null,null,null,null,null,null,null,null,null,null,null,null,null,null,null,20,{"$f":"koreny!F26","v":0},{"$f":"koreny!G26","v":0},{"$f":"koreny!H26","v":1},{"$f":"koreny!I26","v":1}]
[null,null,"odecteno",null,null,null,null,null,"!N","!N","!N",11,"!N",8,10,{"$f":"P22","v":4},{"$f":"Q22","v":14},8,12,null,null,null,null,null,null,null,null,null,null,null,null,21,{"$f":"koreny!F27","v":0},{"$f":"koreny!G27","v":1},{"$f":"koreny!H27","v":1},{"$f":"koreny!I27","v":0}]
[null,null,null,null,null,null,null,null,null,null,null,null,null,null,null,null,null,null,null,null,null,null,null,null,null,null,null,null,null,null,null,22,{"$f":"koreny!F28","v":1},{"$f":"koreny!G28","v":1},{"$f":"koreny!H28","v":0},{"$f":"koreny!I28","v":0}]
[null,null,"poscitano",null," "," "," "," "," ",{"$f":"IF(ISNUMBER($J$26),   $J$26+V6, \"!N\")","v":"!N"},{"$f":"IF(ISNUMBER($J$26),   $J$26+W6, \"!N\")","v":"!N"},"!N","!N","!N","!N","!N",null,null,null,null,null,null,null,null,null,null,null,null,null,null,null,23,{"$f":"koreny!F29","v":1},{"$f":"koreny!G29","v":0},{"$f":"koreny!H29","v":1},{"$f":"koreny!I29","v":1}]
[null,null,"odcykleno",null," "," "," "," "," ",{"$f":"IF(ISNUMBER(J28),IF(J28>14,J28-15,J28), \"!N\")","v":"!N"},{"$f":"IF(ISNUMBER(K28),IF(K28>14,K28-15,K28), \"!N\")","v":"!N"},{"$f":"IF(ISNUMBER(L28),IF(L28>14,L28-15,L28), \"!N\")","v":"!N"},{"$f":"IF(ISNUMBER(M28),IF(M28>14,M28-15,M28), \"!N\")","v":"!N"},{"$f":"IF(ISNUMBER(N28),IF(N28>14,N28-15,N28), \"!N\")","v":"!N"},{"$f":"IF(ISNUMBER(O28),IF(O28>14,O28-15,O28), \"!N\")","v":"!N"},{"$f":"IF(ISNUMBER(P28),IF(P28>14,P28-15,P28), \"!N\")","v":"!N"}]
[null,null,"odecteno",null,null,null,null,null,null,"!N","!N",11,"!N",8,10,4,{"$f":"Q26","v":14},{"$f":"R26","v":8},12]
[]
[null,null,"poscitano",null," "," "," "," "," "," ",{"$f":"IF(ISNUMBER($K$30),   $K$30+V6, \"!N\")","v":"!N"},{"$f":"IF(ISNUMBER($K$30),   $K$30+W6, \"!N\")","v":"!N"},"!N","!N","!N","!N","!N"]
[null,null,"odcykleno",null," "," "," "," "," "," ",{"$f":"IF(ISNUMBER(K32),IF(K32>14,K32-15,K32), \"!N\")","v":"!N"},{"$f":"IF(ISNUMBER(L32),IF(L32>14,L32-15,L32), \"!N\")","v":"!N"},{"$f":"IF(ISNUMBER(M32),IF(M32>14,M32-15,M32), \"!N\")","v":"!N"},{"$f":"IF(ISNUMBER(N32),IF(N32>14,N32-15,N32), \"!N\")","v":"!N"},{"$f":"IF(ISNUMBER(O32),IF(O32>14,O32-15,O32), \"!N\")","v":"!N"},{"$f":"IF(ISNUMBER(P32),IF(P32>14,P32-15,P32), \"!N\")","v":"!N"},{"$f":"IF(ISNUMBER(Q32),IF(Q32>14,Q32-15,Q32), \"!N\")","v":"!N"}]
[null,null,"odecteno",null,null,null,null,null,null,null,"!N",11,"!N",8,10,4,14,{"$f":"R30","v":8},{"$f":"S30","v":12}]
[]
[null,null,"poscitano",null," "," "," "," "," "," "," ",{"$f":"IF(ISNUMBER($L$34),   $L$34+V6, \"!N\")","v":11},{"$f":"IF(ISNUMBER($L$34),   $L$34+W6, \"!N\")","v":21},25,15,17,20,17]
[null,null,"odcykleno",null," "," "," "," "," "," "," ",{"$f":"IF(ISNUMBER(L36),IF(L36>14,L36-15,L36), \"!N\")","v":11},{"$f":"IF(ISNUMBER(M36),IF(M36>14,M36-15,M36), \"!N\")","v":6},{"$f":"IF(ISNUMBER(N36),IF(N36>14,N36-15,N36), \"!N\")","v":10},{"$f":"IF(ISNUMBER(O36),IF(O36>14,O36-15,O36), \"!N\")","v":0},{"$f":"IF(ISNUMBER(P36),IF(P36>14,P36-15,P36), \"!N\")","v":2},{"$f":"IF(ISNUMBER(Q36),IF(Q36>14,Q36-15,Q36), \"!N\")","v":5},{"$f":"IF(ISNUMBER(R36),IF(R36>14,R36-15,R36), \"!N\")","v":2}]
[null,null,"odecteno",null,null,null,null,null,null,null,null,"!N",6,1,5,10,12,0,{"$f":"S34","v":12}]
[]
[null,null,"poscitano",null," "," "," "," "," "," "," "," ",{"$f":"IF(ISNUMBER($M$38),   $M$38+V6, \"!N\")","v":6},{"$f":"IF(ISNUMBER($M$38),   $M$38+W6, \"!N\")","v":16},20,10,12,15,12]
[null,null,"odcykleno",null," "," "," "," "," "," "," "," ",{"$f":"IF(ISNUMBER(M40),IF(M40>14,M40-15,M40), \"!N\")","v":6},{"$f":"IF(ISNUMBER(N40),IF(N40>14,N40-15,N40), \"!N\")","v":1},{"$f":"IF(ISNUMBER(O40),IF(O40>14,O40-15,O40), \"!N\")","v":5},{"$f":"IF(ISNUMBER(P40),IF(P40>14,P40-15,P40), \"!N\")","v":10},{"$f":"IF(ISNUMBER(Q40),IF(Q40>14,Q40-15,Q40), \"!N\")","v":12},{"$f":"IF(ISNUMBER(R40),IF(R40>14,R40-15,R40), \"!N\")","v":0},{"$f":"IF(ISNUMBER(S40),IF(S40>14,S40-15,S40), \"!N\")","v":12}]
[null,null,"odecteno",null,null,null,null,null,null,null,null,null,"!N","!N","!N","!N","!N","!N","!N"]
[]
[null,null,"zbytek",null,null,null,null,null,null,null,null,null,null,{"$f":"N42","v":"!N"},{"$f":"O42","v":"!N"},"!N","!N","!N","!N"]

{"sheet":"syndromy","index":3,"n_rows":42,"n_cols":19,"rows_kept":42,"cut":false,"hidden":false,"merged":[]}
[]
[null,"zpráva s chybou",null,null,"α10","α12",0,"α2","α4","α6","α1","α6","α12","α1","α9","α11","α2","α5","α14"]
[]
[null,null,null,null,"X14","X13","X12","X11","X10"," X9 ","X8","X7  ","X6","X5 ","X4","X3","X2","X1",1]
[null,null,"mocnina u X",null,14,13,12,11,10,9,8,7,6,5,4,3,2,1,0]
[null,null,"koeficient u alfa",null,10,12,"!N",2,4,6,1,6,12,1,9,11,2,5,14]
[]
[]
[null,"dosazeno",1,null,{"$f":"E$6+E$5*$C9","v":24},{"$f":"F$6+F$5*$C9","v":25},{"$error":"#VALUE!"},13,14,15,9,13,18,6,13,14,4,6,14]
[null,null,2,null,{"$f":"E$6+E$5*$C10","v":38},38,{"$error":"#VALUE!"},24,24,24,17,20,24,11,17,17,6,7,14]
[null,"v tabulce",3,null,52,51,{"$error":"#VALUE!"},35,34,33,25,27,30,16,21,20,8,8,14]
[null,"jsou",4,null,66,64,{"$error":"#VALUE!"},46,44,42,33,34,36,21,25,23,10,9,14]
[null,"mocniny",5,null,80,77,{"$error":"#VALUE!"},57,54,51,41,41,42,26,29,26,12,10,14]
[null,"alfa",6,null,94,90,{"$error":"#VALUE!"},68,64,60,49,48,48,31,33,29,14,11,14]
[]
[]
[null,null,1,null,{"$f":"MOD(E9,15)","v":9},{"$f":"MOD(F9,15)","v":10},{"$f":"MOD(G9,15)","v":{"$error":"#VALUE!"}},{"$f":"MOD(H9,15)","v":13},{"$f":"MOD(I9,15)","v":14},0,9,13,3,6,13,14,4,6,14]
[null,"odcykleno",2,null,{"$f":"MOD(E10,15)","v":8},8,{"$error":"#VALUE!"},{"$f":"MOD(H10,15)","v":9},9,9,2,5,9,11,2,2,6,7,14]
[null,null,3,null,{"$f":"MOD(E11,15)","v":7},6,{"$error":"#VALUE!"},{"$f":"MOD(H11,15)","v":5},4,3,10,12,0,1,6,5,8,8,14]
[null,null,4,null,{"$f":"MOD(E12,15)","v":6},4,{"$error":"#VALUE!"},{"$f":"MOD(H12,15)","v":1},14,12,3,4,6,6,10,8,10,9,14]
[null,null,5,null,{"$f":"MOD(E13,15)","v":5},2,{"$error":"#VALUE!"},{"$f":"MOD(H13,15)","v":12},9,6,11,11,12,11,14,11,12,10,14]
[null,null,6,null,{"$f":"MOD(E14,15)","v":4},0,{"$error":"#VALUE!"},{"$f":"MOD(H14,15)","v":8},4,0,4,3,3,1,3,14,14,11,14]
[]
[]
[]
[null,null,1,2,3,4,5,6]
[null,null,"!N",13,"!N",11,14,14]
[]
[null,null,9,8,7,6,5,4]
[null,null,10,8,6,4,2,0]
[null,null,13,9,5,1,12,8]
[null,null,14,9,4,14,9,4]
[null,null,0,9,3,12,6,0]
[null,null,9,2,10,3,11,4,null,null,null,null,null,null,null,null,null,null," "]
[null,null,13,5,12,4,11,3,null,null,null,null,null,11,null,null,null,null," "]
[null,null,3,9,0,6,12,3,null,null,null,null,null,null," "," "," "," "," "]
[null,null,6,11,1,6,11,1]
[null,null,13,2,6,10,14,3,null,null,null,null,null,null,null,null,null,null," "]
[null,null,14,2,5,8,11,14,null,null,null,null,null," "," "]
[null,null,4,6,8,10,12,14]
[null,null,6,7,8,9,10,11]
[null,null,14,14,14,14,14,14]

{"sheet":"GFproGPON","index":4,"n_rows":412,"n_cols":35,"rows_kept":412,"cut":false,"hidden":false,"merged":[]}
[]
[]
[null,null,null,null,null,null,null,null,null,null,null,null,null,"Decimal",null,null,8,7,6,5,4,3,2,1,0]
[null,null,null,null,null,"Galoas field"]
[null,null,"mocnina",null,null,null,null,null,null,null,null,null,null,null,null,null,1,0,0,0,1,1,1,0,1,"Field Generator - dá se měnit"]
[null,null,"alfa",null,7,6,5,4,3,2,1,0,null,null,null,null,1,0,0,0,1,1,1,0,1,"pro GPON"]
[]
[null,null,"minusnek",null,0,0,0,0,0,0,0,0]
[null,null,0,null,0,0,0,0,0,0,0,1,null,{"$f":"L9+K9*2+J9*4+I9*8+H9*16+G9*32+F9*64+E9*128","v":1},null,null,{"$f":"E9","v":0},0,0,0,0,0,0,{"$f":"L9","v":1},0]
[null,null,{"$f":"C9+1","v":1},null,0,0,0,0,0,0,1,0,null,{"$f":"L10+K10*2+J10*4+I10*8+H10*16+G10*32+F10*64+E10*128","v":2},null,null,{"$f":"E10","v":0},{"$f":"F10","v":0},{"$f":"G10","v":0},{"$f":"H10","v":0},{"$f":"I10","v":0},{"$f":"J10","v":0},{"$f":"K10","v":1},{"$f":"L10","v":0},0,null,null,{"$f":"$Q10*R$5","v":0},{"$f":"$Q10*S$5","v":0},0,0,0,0,0,0]
[null,null,{"$f":"C10+1","v":2},null,{"$f":"IF(_xlfn.XOR(R11,AB11), 1, 0)","v":0},{"$f":"IF(_xlfn.XOR(S11,AC11), 1, 0)","v":0},0,0,0,1,0,0,null,4,null,null,{"$f":"E10","v":0},{"$f":"F10","v":0},0,0,0,0,1,0,0,null,null,{"$f":"$Q11*R$5","v":0},{"$f":"$Q11*S$5","v":0},{"$f":"$Q11*T$5","v":0},{"$f":"$Q11*U$5","v":0},{"$f":"$Q11*V$5","v":0},{"$f":"$Q11*W$5","v":0},{"$f":"$Q11*X$5","v":0},{"$f":"$Q11*Y$5","v":0}]
[null,null,3,null,{"$f":"IF(_xlfn.XOR(R12,AB12), 1, 0)","v":0},{"$f":"IF(_xlfn.XOR(S12,AC12), 1, 0)","v":0},{"$f":"IF(_xlfn.XOR(T12,AD12), 1, 0)","v":0},{"$f":"IF(_xlfn.XOR(U12,AE12), 1, 0)","v":0},{"$f":"IF(_xlfn.XOR(V12,AF12), 1, 0)","v":1},{"$f":"IF(_xlfn.XOR(W12,AG12), 1, 0)","v":0},{"$f":"IF(_xlfn.XOR(X12,AH12), 1, 0)","v":0},{"$f":"IF(_xlfn.XOR(Y12,AI12), 1, 0)","v":0},null,8,null,null,{"$f":"E11","v":0},{"$f":"F11","v":0},{"$f":"G11","v":0},{"$f":"H11","v":0},{"$f":"I11","v":0},{"$f":"J11","v":1},{"$f":"K11","v":0},{"$f":"L11","v":0},{"$f":"M11","v":0},null,null,{"$f":"$Q12*R$5","v":0},{"$f":"$Q12*S$5","v":0},{"$f":"$Q12*T$5","v":0},{"$f":"$Q12*U$5","v":0},{"$f":"$Q12*V$5","v":0},{"$f":"$Q12*W$5","v":0},{"$f":"$Q12*X$5","v":0},{"$f":"$Q12*Y$5","v":0}]
[null,null,4,null,0,0,0,1,0,0,0,0,null,16,null,null,0,0,0,0,1,0,0,0,0,null,null,0,0,0,0,0,0,0,0]
[null,null,5,null,0,0,1,0,0,0,0,0,null,32,null,null,0,0,0,1,0,0,0,0,0,null,null,0,0,0,0,0,0,0,0]
[null,null,6,null,0,1,0,0,0,0,0,0,null,64,null,null,0,0,1,0,0,0,0,0,0,null,null,0,0,0,0,0,0,0,0]
[null,null,7,null,1,0,0,0,0,0,0,0,null,128,null,null,0,1,0,0,0,0,0,0,0,null,null,0,0,0,0,0,0,0,0]
[null,null,8,null,0,0,0,1,1,1,0,1,null,29,null,null,1,0,0,0,0,0,0,0,0,null,null,0,0,0,1,1,1,0,1]
[null,null,9,null,0,0,1,1,1,0,1,0,null,58,null,null,0,0,0,1,1,1,0,1,0,null,null,0,0,0,0,0,0,0,0]
[null,null,10,null,0,1,1,1,0,1,0,0,null,116,null,null,0,0,1,1,1,0,1,0,0,null,null,0,0,0,0,0,0,0,0]
[null,null,11,null,1,1,1,0,1,0,0,0,null,232,null,null,0,1,1,1,0,1,0,0,0,null,null,0,0,0,0,0,0,0,0]
[null,null,12,null,1,1,0,0,1,1,0,1,null,205,null,null,1,1,1,0,1,0,0,0,0,null,null,0,0,0,1,1,1,0,1]
[null,null,13,null,1,0,0,0,0,1,1,1,null,135,null,null,1,1,0,0,1,1,0,1,0,null,null,0,0,0,1,1,1,0,1]
[null,null,14,null,0,0,0,1,0,0,1,1,null,19,null,null,1,0,0,0,0,1,1,1,0,null,null,0,0,0,1,1,1,0,1]
[null,null,15,null,0,0,1,0,0,1,1,0,null,38,null,null,0,0,0,1,0,0,1,1,0,null,null,0,0,0,0,0,0,0,0]
[null,null,16,null,0,1,0,0,1,1,0,0,null,76,null,null,0,0,1,0,0,1,1,0,0,null,null,0,0,0,0,0,0,0,0]
[null,null,17,null,1,0,0,1,1,0,0,0,null,152,null,null,0,1,0,0,1,1,0,0,0,null,null,0,0,0,0,0,0,0,0]
[null,null,18,null,0,0,1,0,1,1,0,1,null,45,null,null,1,0,0,1,1,0,0,0,0,null,null,0,0,0,1,1,1,0,1]
[null,null,19,null,0,1,0,1,1,0,1,0,null,90,null,null,0,0,1,0,1,1,0,1,0,null,null,0,0,0,0,0,0,0,0]
[null,null,20,null,1,0,1,1,0,1,0,0,null,180,null,null,0,1,0,1,1,0,1,0,0,null,null,0,0,0,0,0,0,0,0]
[null,null,21,null,0,1,1,1,0,1,0,1,null,117,null,null,1,0,1,1,0,1,0,0,0,null,null,0,0,0,1,1,1,0,1]
[null,null,22,null,1,1,1,0,1,0,1,0,null,234,null,null,0,1,1,1,0,1,0,1,0,null,null,0,0,0,0,0,0,0,0]
[null,null,23,null,1,1,0,0,1,0,0,1,null,201,null,null,1,1,1,0,1,0,1,0,0,null,null,0,0,0,1,1,1,0,1]
[null,null,24,null,1,0,0,0,1,1,1,1,null,143,null,null,1,1,0,0,1,0,0,1,0,null,null,0,0,0,1,1,1,0,1]
[null,null,25,null,0,0,0,0,0,0,1,1,null,3,null,null,1,0,0,0,1,1,1,1,0,null,null,0,0,0,1,1,1,0,1]
[null,null,26,null,0,0,0,0,0,1,1,0,null,6,null,null,0,0,0,0,0,0,1,1,0,null,null,0,0,0,0,0,0,0,0]
[null,null,27,null,0,0,0,0,1,1,0,0,null,12,null,null,0,0,0,0,0,1,1,0,0,null,null,0,0,0,0,0,0,0,0]
[null,null,28,null,0,0,0,1,1,0,0,0,null,24,null,null,0,0,0,0,1,1,0,0,0,null,null,0,0,0,0,0,0,0,0]
[null,null,29,null,0,0,1,1,0,0,0,0,null,48,null,null,0,0,0,1,1,0,0,0,0,null,null,0,0,0,0,0,0,0,0]
[null,null,30,null,0,1,1,0,0,0,0,0,null,96,null,null,0,0,1,1,0,0,0,0,0,null,null,0,0,0,0,0,0,0,0]
[null,null,31,null,1,1,0,0,0,0,0,0,null,192,null,null,0,1,1,0,0,0,0,0,0,null,null,0,0,0,0,0,0,0,0]
[null,null,32,null,1,0,0,1,1,1,0,1,null,157,null,null,1,1,0,0,0,0,0,0,0,null,null,0,0,0,1,1,1,0,1]
[null,null,33,null,0,0,1,0,0,1,1,1,null,39,null,null,1,0,0,1,1,1,0,1,0,null,null,0,0,0,1,1,1,0,1]
[null,null,34,null,0,1,0,0,1,1,1,0,null,78,null,null,0,0,1,0,0,1,1,1,0,null,null,0,0,0,0,0,0,0,0]
[null,null,35,null,1,0,0,1,1,1,0,0,null,156,null,null,0,1,0,0,1,1,1,0,0,null,null,0,0,0,0,0,0,0,0]
[null,null,36,null,0,0,1,0,0,1,0,1,null,37,null,null,1,0,0,1,1,1,0,0,0,null,null,0,0,0,1,1,1,0,1]
[null,null,37,null,0,1,0,0,1,0,1,0,null,74,null,null,0,0,1,0,0,1,0,1,0,null,null,0,0,0,0,0,0,0,0]
[null,null,38,null,1,0,0,1,0,1,0,0,null,148,null,null,0,1,0,0,1,0,1,0,0,null,null,0,0,0,0,0,0,0,0]
[null,null,39,null,0,0,1,1,0,1,0,1,null,53,null,null,1,0,0,1,0,1,0,0,0,null,null,0,0,0,1,1,1,0,1]
[null,null,40,null,0,1,1,0,1,0,1,0,null,106,null,null,0,0,1,1,0,1,0,1,0,null,null,0,0,0,0,0,0,0,0]
[null,null,41,null,1,1,0,1,0,1,0,0,null,212,null,null,0,1,1,0,1,0,1,0,0,null,null,0,0,0,0,0,0,0,0]
[null,null,42,null,1,0,1,1,0,1,0,1,null,181,null,null,1,1,0,1,0,1,0,0,0,null,null,0,0,0,1,1,1,0,1]
[null,null,43,null,0,1,1,1,0,1,1,1,null,119,null,null,1,0,1,1,0,1,0,1,0,null,null,0,0,0,1,1,1,0,1]
[null,null,44,null,1,1,1,0,1,1,1,0,null,238,null,null,0,1,1,1,0,1,1,1,0,null,null,0,0,0,0,0,0,0,0]
[null,null,45,null,1,1,0,0,0,0,0,1,null,193,null,null,1,1,1,0,1,1,1,0,0,null,null,0,0,0,1,1,1,0,1]
[null,null,46,null,1,0,0,1,1,1,1,1,null,159,null,null,1,1,0,0,0,0,0,1,0,null,null,0,0,0,1,1,1,0,1]
[null,null,47,null,0,0,1,0,0,0,1,1,null,35,null,null,1,0,0,1,1,1,1,1,0,null,null,0,0,0,1,1,1,0,1]
[null,null,48,null,0,1,0,0,0,1,1,0,null,70,null,null,0,0,1,0,0,0,1,1,0,null,null,0,0,0,0,0,0,0,0]
[null,null,49,null,1,0,0,0,1,1,0,0,null,140,null,null,0,1,0,0,0,1,1,0,0,null,null,0,0,0,0,0,0,0,0]
[null,null,50,null,0,0,0,0,0,1,0,1,null,5,null,null,1,0,0,0,1,1,0,0,0,null,null,0,0,0,1,1,1,0,1]
[null,null,51,null,0,0,0,0,1,0,1,0,null,10,null,null,0,0,0,0,0,1,0,1,0,null,null,0,0,0,0,0,0,0,0]
[null,null,52,null,0,0,0,1,0,1,0,0,null,20,null,null,0,0,0,0,1,0,1,0,0,null,null,0,0,0,0,0,0,0,0]
[null,null,53,null,0,0,1,0,1,0,0,0,null,40,null,null,0,0,0,1,0,1,0,0,0,null,null,0,0,0,0,0,0,0,0]
[null,null,54,null,0,1,0,1,0,0,0,0,null,80,null,null,0,0,1,0,1,0,0,0,0,null,null,0,0,0,0,0,0,0,0]
[null,null,55,null,1,0,1,0,0,0,0,0,null,160,null,null,0,1,0,1,0,0,0,0,0,null,null,0,0,0,0,0,0,0,0]
[null,null,56,null,0,1,0,1,1,1,0,1,null,93,null,null,1,0,1,0,0,0,0,0,0,null,null,0,0,0,1,1,1,0,1]
[null,null,57,null,1,0,1,1,1,0,1,0,null,186,null,null,0,1,0,1,1,1,0,1,0,null,null,0,0,0,0,0,0,0,0]
[null,null,58,null,0,1,1,0,1,0,0,1,null,105,null,null,1,0,1,1,1,0,1,0,0,null,null,0,0,0,1,1,1,0,1]
[null,null,59,null,1,1,0,1,0,0,1,0,null,210,null,null,0,1,1,0,1,0,0,1,0,null,null,0,0,0,0,0,0,0,0]
[null,null,60,null,1,0,1,1,1,0,0,1,null,185,null,null,1,1,0,1,0,0,1,0,0,null,null,0,0,0,1,1,1,0,1]
[null,null,61,null,0,1,1,0,1,1,1,1,null,111,null,null,1,0,1,1,1,0,0,1,0,null,null,0,0,0,1,1,1,0,1]
[null,null,62,null,1,1,0,1,1,1,1,0,null,222,null,null,0,1,1,0,1,1,1,1,0,null,null,0,0,0,0,0,0,0,0]
[null,null,63,null,1,0,1,0,0,0,0,1,null,161,null,null,1,1,0,1,1,1,1,0,0,null,null,0,0,0,1,1,1,0,1]
[null,null,64,null,0,1,0,1,1,1,1,1,null,95,null,null,1,0,1,0,0,0,0,1,0,null,null,0,0,0,1,1,1,0,1]
[null,null,65,null,1,0,1,1,1,1,1,0,null,{"$f":"L74+K74*2+J74*4+I74*8+H74*16+G74*32+F74*64+E74*128","v":190},null,null,0,1,0,1,1,1,1,1,0,null,null,0,0,0,0,0,0,0,0]
[null,null,{"$f":"C74+1","v":66},null,0,1,1,0,0,0,0,1,null,97,null,null,1,0,1,1,1,1,1,0,0,null,null,0,0,0,1,1,1,0,1]
[null,null,67,null,{"$f":"IF(_xlfn.XOR(R76,AB76), 1, 0)","v":1},{"$f":"IF(_xlfn.XOR(S76,AC76), 1, 0)","v":1},{"$f":"IF(_xlfn.XOR(T76,AD76), 1, 0)","v":0},{"$f":"IF(_xlfn.XOR(U76,AE76), 1, 0)","v":0},{"$f":"IF(_xlfn.XOR(V76,AF76), 1, 0)","v":0},{"$f":"IF(_xlfn.XOR(W76,AG76), 1, 0)","v":0},{"$f":"IF(_xlfn.XOR(X76,AH76), 1, 0)","v":1},{"$f":"IF(_xlfn.XOR(Y76,AI76), 1, 0)","v":0},null,194,null,null,{"$f":"E75","v":0},{"$f":"F75","v":1},{"$f":"G75","v":1},{"$f":"H75","v":0},{"$f":"I75","v":0},{"$f":"J75","v":0},{"$f":"K75","v":0},{"$f":"L75","v":1},{"$f":"M75","v":0},null,null,{"$f":"$Q76*R$5","v":0},{"$f":"$Q76*S$5","v":0},{"$f":"$Q76*T$5","v":0},{"$f":"$Q76*U$5","v":0},{"$f":"$Q76*V$5","v":0},{"$f":"$Q76*W$5","v":0},{"$f":"$Q76*X$5","v":0},{"$f":"$Q76*Y$5","v":0}]
[null,null,68,null,1,0,0,1,1,0,0,1,null,153,null,null,1,1,0,0,0,0,1,0,0,null,null,0,0,0,1,1,1,0,1]
[null,null,69,null,0,0,1,0,1,1,1,1,null,47,null,null,1,0,0,1,1,0,0,1,0,null,null,0,0,0,1,1,1,0,1]
[null,null,70,null,0,1,0,1,1,1,1,0,null,94,null,null,0,0,1,0,1,1,1,1,0,null,null,0,0,0,0,0,0,0,0]
[null,null,71,null,1,0,1,1,1,1,0,0,null,188,null,null,0,1,0,1,1,1,1,0,0,null,null,0,0,0,0,0,0,0,0]
[null,null,72,null,0,1,1,0,0,1,0,1,null,101,null,null,1,0,1,1,1,1,0,0,0,null,null,0,0,0,1,1,1,0,1]
[null,null,73,null,1,1,0,0,1,0,1,0,null,202,null,null,0,1,1,0,0,1,0,1,0,null,null,0,0,0,0,0,0,0,0]
[null,null,74,null,1,0,0,0,1,0,0,1,null,137,null,null,1,1,0,0,1,0,1,0,0,null,null,0,0,0,1,1,1,0,1]
[null,null,75,null,0,0,0,0,1,1,1,1,null,15,null,null,1,0,0,0,1,0,0,1,0,null,null,0,0,0,1,1,1,0,1]
[null,null,76,null,0,0,0,1,1,1,1,0,null,30,null,null,0,0,0,0,1,1,1,1,0,null,null,0,0,0,0,0,0,0,0]
[null,null,77,null,0,0,1,1,1,1,0,0,null,60,null,null,0,0,0,1,1,1,1,0,0,null,null,0,0,0,0,0,0,0,0]
[null,null,78,null,0,1,1,1,1,0,0,0,null,120,null,null,0,0,1,1,1,1,0,0,0,null,null,0,0,0,0,0,0,0,0]
[null,null,79,null,1,1,1,1,0,0,0,0,null,240,null,null,0,1,1,1,1,0,0,0,0,null,null,0,0,0,0,0,0,0,0]
[null,null,80,null,1,1,1,1,1,1,0,1,null,253,null,null,1,1,1,1,0,0,0,0,0,null,null,0,0,0,1,1,1,0,1]
[null,null,81,null,1,1,1,0,0,1,1,1,null,231,null,null,1,1,1,1,1,1,0,1,0,null,null,0,0,0,1,1,1,0,1]
[null,null,82,null,1,1,0,1,0,0,1,1,null,211,null,null,1,1,1,0,0,1,1,1,0,null,null,0,0,0,1,1,1,0,1]
[null,null,83,null,1,0,1,1,1,0,1,1,null,187,null,null,1,1,0,1,0,0,1,1,0,null,null,0,0,0,1,1,1,0,1]
[null,null,84,null,0,1,1,0,1,0,1,1,null,107,null,null,1,0,1,1,1,0,1,1,0,null,null,0,0,0,1,1,1,0,1]
[null,null,85,null,1,1,0,1,0,1,1,0,null,214,null,null,0,1,1,0,1,0,1,1,0,null,null,0,0,0,0,0,0,0,0]
[null,null,86,null,1,0,1,1,0,0,0,1,null,177,null,null,1,1,0,1,0,1,1,0,0,null,null,0,0,0,1,1,1,0,1]
[null,null,87,null,0,1,1,1,1,1,1,1,null,127,null,null,1,0,1,1,0,0,0,1,0,null,null,0,0,0,1,1,1,0,1]
[null,null,88,null,1,1,1,1,1,1,1,0,null,254,null,null,0,1,1,1,1,1,1,1,0,null,null,0,0,0,0,0,0,0,0]
[null,null,89,null,1,1,1,0,0,0,0,1,null,225,null,null,1,1,1,1,1,1,1,0,0,null,null,0,0,0,1,1,1,0,1]
[null,null,90,null,1,1,0,1,1,1,1,1,null,223,null,null,1,1,1,0,0,0,0,1,0,null,null,0,0,0,1,1,1,0,1]
[null,null,91,null,1,0,1,0,0,0,1,1,null,163,null,null,1,1,0,1,1,1,1,1,0,null,null,0,0,0,1,1,1,0,1]
[null,null,92,null,0,1,0,1,1,0,1,1,null,91,null,null,1,0,1,0,0,0,1,1,0,null,null,0,0,0,1,1,1,0,1]
[null,null,93,null,1,0,1,1,0,1,1,0,null,182,null,null,0,1,0,1,1,0,1,1,0,null,null,0,0,0,0,0,0,0,0]
[null,null,94,null,0,1,1,1,0,0,0,1,null,113,null,null,1,0,1,1,0,1,1,0,0,null,null,0,0,0,1,1,1,0,1]
[null,null,95,null,1,1,1,0,0,0,1,0,null,226,null,null,0,1,1,1,0,0,0,1,0,null,null,0,0,0,0,0,0,0,0]
[null,null,96,null,1,1,0,1,1,0,0,1,null,217,null,null,1,1,1,0,0,0,1,0,0,null,null,0,0,0,1,1,1,0,1]
[null,null,97,null,1,0,1,0,1,1,1,1,null,175,null,null,1,1,0,1,1,0,0,1,0,null,null,0,0,0,1,1,1,0,1]
[null,null,98,null,0,1,0,0,0,0,1,1,null,67,null,null,1,0,1,0,1,1,1,1,0,null,null,0,0,0,1,1,1,0,1]
[null,null,99,null,1,0,0,0,0,1,1,0,null,134,null,null,0,1,0,0,0,0,1,1,0,null,null,0,0,0,0,0,0,0,0]
[null,null,100,null,0,0,0,1,0,0,0,1,null,17,null,null,1,0,0,0,0,1,1,0,0,null,null,0,0,0,1,1,1,0,1]
[null,null,101,null,0,0,1,0,0,0,1,0,null,34,null,null,0,0,0,1,0,0,0,1,0,null,null,0,0,0,0,0,0,0,0]
[null,null,102,null,0,1,0,0,0,1,0,0,null,68,null,null,0,0,1,0,0,0,1,0,0,null,null,0,0,0,0,0,0,0,0]
[null,null,103,null,1,0,0,0,1,0,0,0,null,136,null,null,0,1,0,0,0,1,0,0,0,null,null,0,0,0,0,0,0,0,0]
[null,null,104,null,0,0,0,0,1,1,0,1,null,13,null,null,1,0,0,0,1,0,0,0,0,null,null,0,0,0,1,1,1,0,1]
[null,null,105,null,0,0,0,1,1,0,1,0,null,26,null,null,0,0,0,0,1,1,0,1,0,null,null,0,0,0,0,0,0,0,0]
[null,null,106,null,0,0,1,1,0,1,0,0,null,52,null,null,0,0,0,1,1,0,1,0,0,null,null,0,0,0,0,0,0,0,0]
[null,null,107,null,0,1,1,0,1,0,0,0,null,104,null,null,0,0,1,1,0,1,0,0,0,null,null,0,0,0,0,0,0,0,0]
[null,null,108,null,1,1,0,1,0,0,0,0,null,208,null,null,0,1,1,0,1,0,0,0,0,null,null,0,0,0,0,0,0,0,0]
[null,null,109,null,1,0,1,1,1,1,0,1,null,189,null,null,1,1,0,1,0,0,0,0,0,null,null,0,0,0,1,1,1,0,1]
[null,null,110,null,0,1,1,0,0,1,1,1,null,103,null,null,1,0,1,1,1,1,0,1,0,null,null,0,0,0,1,1,1,0,1]
[null,null,111,null,1,1,0,0,1,1,1,0,null,206,null,null,0,1,1,0,0,1,1,1,0,null,null,0,0,0,0,0,0,0,0]
[null,null,112,null,1,0,0,0,0,0,0,1,null,129,null,null,1,1,0,0,1,1,1,0,0,null,null,0,0,0,1,1,1,0,1]
[null,null,113,null,0,0,0,1,1,1,1,1,null,31,null,null,1,0,0,0,0,0,0,1,0,null,null,0,0,0,1,1,1,0,1]
[null,null,114,null,0,0,1,1,1,1,1,0,null,62,null,null,0,0,0,1,1,1,1,1,0,null,null,0,0,0,0,0,0,0,0]
[null,null,115,null,0,1,1,1,1,1,0,0,null,124,null,null,0,0,1,1,1,1,1,0,0,null,null,0,0,0,0,0,0,0,0]
[null,null,116,null,1,1,1,1,1,0,0,0,null,248,null,null,0,1,1,1,1,1,0,0,0,null,null,0,0,0,0,0,0,0,0]
[null,null,117,null,1,1,1,0,1,1,0,1,null,237,null,null,1,1,1,1,1,0,0,0,0,null,null,0,0,0,1,1,1,0,1]
[null,null,118,null,1,1,0,0,0,1,1,1,null,199,null,null,1,1,1,0,1,1,0,1,0,null,null,0,0,0,1,1,1,0,1]
[null,null,119,null,1,0,0,1,0,0,1,1,null,147,null,null,1,1,0,0,0,1,1,1,0,null,null,0,0,0,1,1,1,0,1]
[null,null,120,null,0,0,1,1,1,0,1,1,null,59,null,null,1,0,0,1,0,0,1,1,0,null,null,0,0,0,1,1,1,0,1]
[null,null,121,null,0,1,1,1,0,1,1,0,null,118,null,null,0,0,1,1,1,0,1,1,0,null,null,0,0,0,0,0,0,0,0]
[null,null,122,null,1,1,1,0,1,1,0,0,null,236,null,null,0,1,1,1,0,1,1,0,0,null,null,0,0,0,0,0,0,0,0]
[null,null,123,null,1,1,0,0,0,1,0,1,null,197,null,null,1,1,1,0,1,1,0,0,0,null,null,0,0,0,1,1,1,0,1]
[null,null,124,null,1,0,0,1,0,1,1,1,null,151,null,null,1,1,0,0,0,1,0,1,0,null,null,0,0,0,1,1,1,0,1]
[null,null,125,null,0,0,1,1,0,0,1,1,null,51,null,null,1,0,0,1,0,1,1,1,0,null,null,0,0,0,1,1,1,0,1]
[null,null,126,null,0,1,1,0,0,1,1,0,null,102,null,null,0,0,1,1,0,0,1,1,0,null,null,0,0,0,0,0,0,0,0]
[null,null,127,null,1,1,0,0,1,1,0,0,null,204,null,null,0,1,1,0,0,1,1,0,0,null,null,0,0,0,0,0,0,0,0]
[null,null,128,null,1,0,0,0,0,1,0,1,null,133,null,null,1,1,0,0,1,1,0,0,0,null,null,0,0,0,1,1,1,0,1]
[null,null,129,null,0,0,0,1,0,1,1,1,null,{"$f":"L138+K138*2+J138*4+I138*8+H138*16+G138*32+F138*64+E138*128","v":23},null,null,1,0,0,0,0,1,0,1,0,null,null,0,0,0,1,1,1,0,1]
[null,null,{"$f":"C138+1","v":130},null,0,0,1,0,1,1,1,0,null,46,null,null,0,0,0,1,0,1,1,1,0,null,null,0,0,0,0,0,0,0,0]
[null,null,131,null,{"$f":"IF(_xlfn.XOR(R140,AB140), 1, 0)","v":0},{"$f":"IF(_xlfn.XOR(S140,AC140), 1, 0)","v":1},{"$f":"IF(_xlfn.XOR(T140,AD140), 1, 0)","v":0},{"$f":"IF(_xlfn.XOR(U140,AE140), 1, 0)","v":1},{"$f":"IF(_xlfn.XOR(V140,AF140), 1, 0)","v":1},{"$f":"IF(_xlfn.XOR(W140,AG140), 1, 0)","v":1},{"$f":"IF(_xlfn.XOR(X140,AH140), 1, 0)","v":0},{"$f":"IF(_xlfn.XOR(Y140,AI140), 1, 0)","v":0},null,92,null,null,{"$f":"E139","v":0},{"$f":"F139","v":0},{"$f":"G139","v":1},{"$f":"H139","v":0},{"$f":"I139","v":1},{"$f":"J139","v":1},{"$f":"K139","v":1},{"$f":"L139","v":0},{"$f":"M139","v":0},null,null,{"$f":"$Q140*R$5","v":0},{"$f":"$Q140*S$5","v":0},{"$f":"$Q140*T$5","v":0},{"$f":"$Q140*U$5","v":0},{"$f":"$Q140*V$5","v":0},{"$f":"$Q140*W$5","v":0},{"$f":"$Q140*X$5","v":0},{"$f":"$Q140*Y$5","v":0}]
[null,null,132,null,1,0,1,1,1,0,0,0,null,184,null,null,0,1,0,1,1,1,0,0,0,null,null,0,0,0,0,0,0,0,0]
[null,null,133,null,0,1,1,0,1,1,0,1,null,109,null,null,1,0,1,1,1,0,0,0,0,null,null,0,0,0,1,1,1,0,1]
[null,null,134,null,1,1,0,1,1,0,1,0,null,218,null,null,0,1,1,0,1,1,0,1,0,null,null,0,0,0,0,0,0,0,0]
[null,null,135,null,1,0,1,0,1,0,0,1,null,169,null,null,1,1,0,1,1,0,1,0,0,null,null,0,0,0,1,1,1,0,1]
[null,null,136,null,0,1,0,0,1,1,1,1,null,79,null,null,1,0,1,0,1,0,0,1,0,null,null,0,0,0,1,1,1,0,1]
[null,null,137,null,1,0,0,1,1,1,1,0,null,158,null,null,0,1,0,0,1,1,1,1,0,null,null,0,0,0,0,0,0,0,0]
[null,null,138,null,0,0,1,0,0,0,0,1,null,33,null,null,1,0,0,1,1,1,1,0,0,null,null,0,0,0,1,1,1,0,1]
[null,null,139,null,0,1,0,0,0,0,1,0,null,66,null,null,0,0,1,0,0,0,0,1,0,null,null,0,0,0,0,0,0,0,0]
[null,null,140,null,1,0,0,0,0,1,0,0,null,132,null,null,0,1,0,0,0,0,1,0,0,null,null,0,0,0,0,0,0,0,0]
[null,null,141,null,0,0,0,1,0,1,0,1,null,21,null,null,1,0,0,0,0,1,0,0,0,null,null,0,0,0,1,1,1,0,1]
[null,null,142,null,0,0,1,0,1,0,1,0,null,42,null,null,0,0,0,1,0,1,0,1,0,null,null,0,0,0,0,0,0,0,0]
[null,null,143,null,0,1,0,1,0,1,0,0,null,84,null,null,0,0,1,0,1,0,1,0,0,null,null,0,0,0,0,0,0,0,0]
[null,null,144,null,1,0,1,0,1,0,0,0,null,168,null,null,0,1,0,1,0,1,0,0,0,null,null,0,0,0,0,0,0,0,0]
[null,null,145,null,0,1,0,0,1,1,0,1,null,77,null,null,1,0,1,0,1,0,0,0,0,null,null,0,0,0,1,1,1,0,1]
[null,null,146,null,1,0,0,1,1,0,1,0,null,154,null,null,0,1,0,0,1,1,0,1,0,null,null,0,0,0,0,0,0,0,0]
[null,null,147,null,0,0,1,0,1,0,0,1,null,41,null,null,1,0,0,1,1,0,1,0,0,null,null,0,0,0,1,1,1,0,1]
[null,null,148,null,0,1,0,1,0,0,1,0,null,82,null,null,0,0,1,0,1,0,0,1,0,null,null,0,0,0,0,0,0,0,0]
[null,null,149,null,1,0,1,0,0,1,0,0,null,164,null,null,0,1,0,1,0,0,1,0,0,null,null,0,0,0,0,0,0,0,0]
[null,null,150,null,0,1,0,1,0,1,0,1,null,85,null,null,1,0,1,0,0,1,0,0,0,null,null,0,0,0,1,1,1,0,1]
[null,null,151,null,1,0,1,0,1,0,1,0,null,170,null,null,0,1,0,1,0,1,0,1,0,null,null,0,0,0,0,0,0,0,0]
[null,null,152,null,0,1,0,0,1,0,0,1,null,73,null,null,1,0,1,0,1,0,1,0,0,null,null,0,0,0,1,1,1,0,1]
[null,null,153,null,1,0,0,1,0,0,1,0,null,146,null,null,0,1,0,0,1,0,0,1,0,null,null,0,0,0,0,0,0,0,0]
[null,null,154,null,0,0,1,1,1,0,0,1,null,57,null,null,1,0,0,1,0,0,1,0,0,null,null,0,0,0,1,1,1,0,1]
[null,null,155,null,0,1,1,1,0,0,1,0,null,114,null,null,0,0,1,1,1,0,0,1,0,null,null,0,0,0,0,0,0,0,0]
[null,null,156,null,1,1,1,0,0,1,0,0,null,228,null,null,0,1,1,1,0,0,1,0,0,null,null,0,0,0,0,0,0,0,0]
[null,null,157,null,1,1,0,1,0,1,0,1,null,213,null,null,1,1,1,0,0,1,0,0,0,null,null,0,0,0,1,1,1,0,1]
[null,null,158,null,1,0,1,1,0,1,1,1,null,183,null,null,1,1,0,1,0,1,0,1,0,null,null,0,0,0,1,1,1,0,1]
[null,null,159,null,0,1,1,1,0,0,1,1,null,115,null,null,1,0,1,1,0,1,1,1,0,null,null,0,0,0,1,1,1,0,1]
[null,null,160,null,1,1,1,0,0,1,1,0,null,230,null,null,0,1,1,1,0,0,1,1,0,null,null,0,0,0,0,0,0,0,0]
[null,null,161,null,1,1,0,1,0,0,0,1,null,209,null,null,1,1,1,0,0,1,1,0,0,null,null,0,0,0,1,1,1,0,1]
[null,null,162,null,1,0,1,1,1,1,1,1,null,191,null,null,1,1,0,1,0,0,0,1,0,null,null,0,0,0,1,1,1,0,1]
[null,null,163,null,0,1,1,0,0,0,1,1,null,99,null,null,1,0,1,1,1,1,1,1,0,null,null,0,0,0,1,1,1,0,1]
[null,null,164,null,1,1,0,0,0,1,1,0,null,198,null,null,0,1,1,0,0,0,1,1,0,null,null,0,0,0,0,0,0,0,0]
[null,null,165,null,1,0,0,1,0,0,0,1,null,145,null,null,1,1,0,0,0,1,1,0,0,null,null,0,0,0,1,1,1,0,1]
[null,null,166,null,0,0,1,1,1,1,1,1,null,63,null,null,1,0,0,1,0,0,0,1,0,null,null,0,0,0,1,1,1,0,1]
[null,null,167,null,0,1,1,1,1,1,1,0,null,126,null,null,0,0,1,1,1,1,1,1,0,null,null,0,0,0,0,0,0,0,0]
[null,null,168,null,1,1,1,1,1,1,0,0,null,252,null,null,0,1,1,1,1,1,1,0,0,null,null,0,0,0,0,0,0,0,0]
[null,null,169,null,1,1,1,0,0,1,0,1,null,229,null,null,1,1,1,1,1,1,0,0,0,null,null,0,0,0,1,1,1,0,1]
[null,null,170,null,1,1,0,1,0,1,1,1,null,215,null,null,1,1,1,0,0,1,0,1,0,null,null,0,0,0,1,1,1,0,1]
[null,null,171,null,1,0,1,1,0,0,1,1,null,179,null,null,1,1,0,1,0,1,1,1,0,null,null,0,0,0,1,1,1,0,1]
[null,null,172,null,0,1,1,1,1,0,1,1,null,123,null,null,1,0,1,1,0,0,1,1,0,null,null,0,0,0,1,1,1,0,1]
[null,null,173,null,1,1,1,1,0,1,1,0,null,246,null,null,0,1,1,1,1,0,1,1,0,null,null,0,0,0,0,0,0,0,0]
[null,null,174,null,1,1,1,1,0,0,0,1,null,241,null,null,1,1,1,1,0,1,1,0,0,null,null,0,0,0,1,1,1,0,1]
[null,null,175,null,1,1,1,1,1,1,1,1,null,255,null,null,1,1,1,1,0,0,0,1,0,null,null,0,0,0,1,1,1,0,1]
[null,null,176,null,1,1,1,0,0,0,1,1,null,227,null,null,1,1,1,1,1,1,1,1,0,null,null,0,0,0,1,1,1,0,1]
[null,null,177,null,1,1,0,1,1,0,1,1,null,219,null,null,1,1,1,0,0,0,1,1,0,null,null,0,0,0,1,1,1,0,1]
[null,null,178,null,1,0,1,0,1,0,1,1,null,171,null,null,1,1,0,1,1,0,1,1,0,null,null,0,0,0,1,1,1,0,1]
[null,null,179,null,0,1,0,0,1,0,1,1,null,75,null,null,1,0,1,0,1,0,1,1,0,null,null,0,0,0,1,1,1,0,1]
[null,null,180,null,1,0,0,1,0,1,1,0,null,150,null,null,0,1,0,0,1,0,1,1,0,null,null,0,0,0,0,0,0,0,0]
[null,null,181,null,0,0,1,1,0,0,0,1,null,49,null,null,1,0,0,1,0,1,1,0,0,null,null,0,0,0,1,1,1,0,1]
[null,null,182,null,0,1,1,0,0,0,1,0,null,98,null,null,0,0,1,1,0,0,0,1,0,null,null,0,0,0,0,0,0,0,0]
[null,null,183,null,1,1,0,0,0,1,0,0,null,196,null,null,0,1,1,0,0,0,1,0,0,null,null,0,0,0,0,0,0,0,0]
[null,null,184,null,1,0,0,1,0,1,0,1,null,149,null,null,1,1,0,0,0,1,0,0,0,null,null,0,0,0,1,1,1,0,1]
[null,null,185,null,0,0,1,1,0,1,1,1,null,55,null,null,1,0,0,1,0,1,0,1,0,null,null,0,0,0,1,1,1,0,1]
[null,null,186,null,0,1,1,0,1,1,1,0,null,110,null,null,0,0,1,1,0,1,1,1,0,null,null,0,0,0,0,0,0,0,0]
[null,null,187,null,1,1,0,1,1,1,0,0,null,220,null,null,0,1,1,0,1,1,1,0,0,null,null,0,0,0,0,0,0,0,0]
[null,null,188,null,1,0,1,0,0,1,0,1,null,165,null,null,1,1,0,1,1,1,0,0,0,null,null,0,0,0,1,1,1,0,1]
[null,null,189,null,0,1,0,1,0,1,1,1,null,87,null,null,1,0,1,0,0,1,0,1,0,null,null,0,0,0,1,1,1,0,1]
[null,null,190,null,1,0,1,0,1,1,1,0,null,174,null,null,0,1,0,1,0,1,1,1,0,null,null,0,0,0,0,0,0,0,0]
[null,null,191,null,0,1,0,0,0,0,0,1,null,65,null,null,1,0,1,0,1,1,1,0,0,null,null,0,0,0,1,1,1,0,1]
[null,null,192,null,1,0,0,0,0,0,1,0,null,130,null,null,0,1,0,0,0,0,0,1,0,null,null,0,0,0,0,0,0,0,0]
[null,null,193,null,0,0,0,1,1,0,0,1,null,{"$f":"L202+K202*2+J202*4+I202*8+H202*16+G202*32+F202*64+E202*128","v":25},null,null,1,0,0,0,0,0,1,0,0,null,null,0,0,0,1,1,1,0,1]
[null,null,{"$f":"C202+1","v":194},null,0,0,1,1,0,0,1,0,null,50,null,null,0,0,0,1,1,0,0,1,0,null,null,0,0,0,0,0,0,0,0]
[null,null,195,null,{"$f":"IF(_xlfn.XOR(R204,AB204), 1, 0)","v":0},{"$f":"IF(_xlfn.XOR(S204,AC204), 1, 0)","v":1},{"$f":"IF(_xlfn.XOR(T204,AD204), 1, 0)","v":1},{"$f":"IF(_xlfn.XOR(U204,AE204), 1, 0)","v":0},{"$f":"IF(_xlfn.XOR(V204,AF204), 1, 0)","v":0},{"$f":"IF(_xlfn.XOR(W204,AG204), 1, 0)","v":1},{"$f":"IF(_xlfn.XOR(X204,AH204), 1, 0)","v":0},{"$f":"IF(_xlfn.XOR(Y204,AI204), 1, 0)","v":0},null,100,null,null,{"$f":"E203","v":0},{"$f":"F203","v":0},{"$f":"G203","v":1},{"$f":"H203","v":1},{"$f":"I203","v":0},{"$f":"J203","v":0},{"$f":"K203","v":1},{"$f":"L203","v":0},{"$f":"M203","v":0},null,null,{"$f":"$Q204*R$5","v":0},{"$f":"$Q204*S$5","v":0},{"$f":"$Q204*T$5","v":0},{"$f":"$Q204*U$5","v":0},{"$f":"$Q204*V$5","v":0},{"$f":"$Q204*W$5","v":0},{"$f":"$Q204*X$5","v":0},{"$f":"$Q204*Y$5","v":0}]
[null,null,196,null,1,1,0,0,1,0,0,0,null,200,null,null,0,1,1,0,0,1,0,0,0,null,null,0,0,0,0,0,0,0,0]
[null,null,197,null,1,0,0,0,1,1,0,1,null,141,null,null,1,1,0,0,1,0,0,0,0,null,null,0,0,0,1,1,1,0,1]
[null,null,198,null,0,0,0,0,0,1,1,1,null,7,null,null,1,0,0,0,1,1,0,1,0,null,null,0,0,0,1,1,1,0,1]
[null,null,199,null,0,0,0,0,1,1,1,0,null,14,null,null,0,0,0,0,0,1,1,1,0,null,null,0,0,0,0,0,0,0,0]
[null,null,200,null,0,0,0,1,1,1,0,0,null,28,null,null,0,0,0,0,1,1,1,0,0,null,null,0,0,0,0,0,0,0,0]
[null,null,201,null,0,0,1,1,1,0,0,0,null,56,null,null,0,0,0,1,1,1,0,0,0,null,null,0,0,0,0,0,0,0,0]
[null,null,202,null,0,1,1,1,0,0,0,0,null,112,null,null,0,0,1,1,1,0,0,0,0,null,null,0,0,0,0,0,0,0,0]
[null,null,203,null,1,1,1,0,0,0,0,0,null,224,null,null,0,1,1,1,0,0,0,0,0,null,null,0,0,0,0,0,0,0,0]
[null,null,204,null,1,1,0,1,1,1,0,1,null,221,null,null,1,1,1,0,0,0,0,0,0,null,null,0,0,0,1,1,1,0,1]
[null,null,205,null,1,0,1,0,0,1,1,1,null,167,null,null,1,1,0,1,1,1,0,1,0,null,null,0,0,0,1,1,1,0,1]
[null,null,206,null,0,1,0,1,0,0,1,1,null,83,null,null,1,0,1,0,0,1,1,1,0,null,null,0,0,0,1,1,1,0,1]
[null,null,207,null,1,0,1,0,0,1,1,0,null,166,null,null,0,1,0,1,0,0,1,1,0,null,null,0,0,0,0,0,0,0,0]
[null,null,208,null,0,1,0,1,0,0,0,1,null,81,null,null,1,0,1,0,0,1,1,0,0,null,null,0,0,0,1,1,1,0,1]
[null,null,209,null,1,0,1,0,0,0,1,0,null,162,null,null,0,1,0,1,0,0,0,1,0,null,null,0,0,0,0,0,0,0,0]
[null,null,210,null,0,1,0,1,1,0,0,1,null,89,null,null,1,0,1,0,0,0,1,0,0,null,null,0,0,0,1,1,1,0,1]
[null,null,211,null,1,0,1,1,0,0,1,0,null,178,null,null,0,1,0,1,1,0,0,1,0,null,null,0,0,0,0,0,0,0,0]
[null,null,212,null,0,1,1,1,1,0,0,1,null,121,null,null,1,0,1,1,0,0,1,0,0,null,null,0,0,0,1,1,1,0,1]
[null,null,213,null,1,1,1,1,0,0,1,0,null,242,null,null,0,1,1,1,1,0,0,1,0,null,null,0,0,0,0,0,0,0,0]
[null,null,214,null,1,1,1,1,1,0,0,1,null,249,null,null,1,1,1,1,0,0,1,0,0,null,null,0,0,0,1,1,1,0,1]
[null,null,215,null,1,1,1,0,1,1,1,1,null,239,null,null,1,1,1,1,1,0,0,1,0,null,null,0,0,0,1,1,1,0,1]
[null,null,216,null,1,1,0,0,0,0,1,1,null,195,null,null,1,1,1,0,1,1,1,1,0,null,null,0,0,0,1,1,1,0,1]
[null,null,217,null,1,0,0,1,1,0,1,1,null,155,null,null,1,1,0,0,0,0,1,1,0,null,null,0,0,0,1,1,1,0,1]
[null,null,218,null,0,0,1,0,1,0,1,1,null,43,null,null,1,0,0,1,1,0,1,1,0,null,null,0,0,0,1,1,1,0,1]
[null,null,219,null,0,1,0,1,0,1,1,0,null,86,null,null,0,0,1,0,1,0,1,1,0,null,null,0,0,0,0,0,0,0,0]
[null,null,220,null,1,0,1,0,1,1,0,0,null,172,null,null,0,1,0,1,0,1,1,0,0,null,null,0,0,0,0,0,0,0,0]
[null,null,221,null,0,1,0,0,0,1,0,1,null,69,null,null,1,0,1,0,1,1,0,0,0,null,null,0,0,0,1,1,1,0,1]
[null,null,222,null,1,0,0,0,1,0,1,0,null,138,null,null,0,1,0,0,0,1,0,1,0,null,null,0,0,0,0,0,0,0,0]
[null,null,223,null,0,0,0,0,1,0,0,1,null,9,null,null,1,0,0,0,1,0,1,0,0,null,null,0,0,0,1,1,1,0,1]
[null,null,224,null,0,0,0,1,0,0,1,0,null,18,null,null,0,0,0,0,1,0,0,1,0,null,null,0,0,0,0,0,0,0,0]
[null,null,225,null,0,0,1,0,0,1,0,0,null,36,null,null,0,0,0,1,0,0,1,0,0,null,null,0,0,0,0,0,0,0,0]
[null,null,226,null,0,1,0,0,1,0,0,0,null,72,null,null,0,0,1,0,0,1,0,0,0,null,null,0,0,0,0,0,0,0,0]
[null,null,227,null,1,0,0,1,0,0,0,0,null,144,null,null,0,1,0,0,1,0,0,0,0,null,null,0,0,0,0,0,0,0,0]
[null,null,228,null,0,0,1,1,1,1,0,1,null,61,null,null,1,0,0,1,0,0,0,0,0,null,null,0,0,0,1,1,1,0,1]
[null,null,229,null,0,1,1,1,1,0,1,0,null,122,null,null,0,0,1,1,1,1,0,1,0,null,null,0,0,0,0,0,0,0,0]
[null,null,230,null,1,1,1,1,0,1,0,0,null,244,null,null,0,1,1,1,1,0,1,0,0,null,null,0,0,0,0,0,0,0,0]
[null,null,231,null,1,1,1,1,0,1,0,1,null,245,null,null,1,1,1,1,0,1,0,0,0,null,null,0,0,0,1,1,1,0,1]
[null,null,232,null,1,1,1,1,0,1,1,1,null,247,null,null,1,1,1,1,0,1,0,1,0,null,null,0,0,0,1,1,1,0,1]
[null,null,233,null,1,1,1,1,0,0,1,1,null,243,null,null,1,1,1,1,0,1,1,1,0,null,null,0,0,0,1,1,1,0,1]
[null,null,234,null,1,1,1,1,1,0,1,1,null,251,null,null,1,1,1,1,0,0,1,1,0,null,null,0,0,0,1,1,1,0,1]
[null,null,235,null,1,1,1,0,1,0,1,1,null,235,null,null,1,1,1,1,1,0,1,1,0,null,null,0,0,0,1,1,1,0,1]
[null,null,236,null,1,1,0,0,1,0,1,1,null,203,null,null,1,1,1,0,1,0,1,1,0,null,null,0,0,0,1,1,1,0,1]
[null,null,237,null,1,0,0,0,1,0,1,1,null,139,null,null,1,1,0,0,1,0,1,1,0,null,null,0,0,0,1,1,1,0,1]
[null,null,238,null,0,0,0,0,1,0,1,1,null,11,null,null,1,0,0,0,1,0,1,1,0,null,null,0,0,0,1,1,1,0,1]
[null,null,239,null,0,0,0,1,0,1,1,0,null,22,null,null,0,0,0,0,1,0,1,1,0,null,null,0,0,0,0,0,0,0,0]
[null,null,240,null,0,0,1,0,1,1,0,0,null,44,null,null,0,0,0,1,0,1,1,0,0,null,null,0,0,0,0,0,0,0,0]
[null,null,241,null,0,1,0,1,1,0,0,0,null,88,null,null,0,0,1,0,1,1,0,0,0,null,null,0,0,0,0,0,0,0,0]
[null,null,242,null,1,0,1,1,0,0,0,0,null,176,null,null,0,1,0,1,1,0,0,0,0,null,null,0,0,0,0,0,0,0,0]
[null,null,243,null,0,1,1,1,1,1,0,1,null,125,null,null,1,0,1,1,0,0,0,0,0,null,null,0,0,0,1,1,1,0,1]
[null,null,244,null,1,1,1,1,1,0,1,0,null,250,null,null,0,1,1,1,1,1,0,1,0,null,null,0,0,0,0,0,0,0,0]
[null,null,245,null,1,1,1,0,1,0,0,1,null,233,null,null,1,1,1,1,1,0,1,0,0,null,null,0,0,0,1,1,1,0,1]
[null,null,246,null,1,1,0,0,1,1,1,1,null,207,null,null,1,1,1,0,1,0,0,1,0,null,null,0,0,0,1,1,1,0,1]
[null,null,247,null,1,0,0,0,0,0,1,1,null,131,null,null,1,1,0,0,1,1,1,1,0,null,null,0,0,0,1,1,1,0,1]
[null,null,248,null,0,0,0,1,1,0,1,1,null,27,null,null,1,0,0,0,0,0,1,1,0,null,null,0,0,0,1,1,1,0,1]
[null,null,249,null,0,0,1,1,0,1,1,0,null,54,null,null,0,0,0,1,1,0,1,1,0,null,null,0,0,0,0,0,0,0,0]
[null,null,250,null,0,1,1,0,1,1,0,0,null,108,null,null,0,0,1,1,0,1,1,0,0,null,null,0,0,0,0,0,0,0,0]
[null,null,251,null,1,1,0,1,1,0,0,0,null,216,null,null,0,1,1,0,1,1,0,0,0,null,null,0,0,0,0,0,0,0,0]
[null,null,252,null,1,0,1,0,1,1,0,1,null,173,null,null,1,1,0,1,1,0,0,0,0,null,null,0,0,0,1,1,1,0,1]
[null,null,253,null,0,1,0,0,0,1,1,1,null,71,null,null,1,0,1,0,1,1,0,1,0,null,null,0,0,0,1,1,1,0,1]
[null,null,254,null,1,0,0,0,1,1,1,0,null,142,null,null,0,1,0,0,0,1,1,1,0,null,null,0,0,0,0,0,0,0,0]
[null,null,255,null,0,0,0,0,0,0,0,1,null,1,null,null,1,0,0,0,1,1,1,0,0,null,null,0,0,0,1,1,1,0,1]
[null,null,256,null,0,0,0,0,0,0,1,0,null,2,null,null,0,0,0,0,0,0,0,1,0,null,null,0,0,0,0,0,0,0,0]
[null,null,257,null,0,0,0,0,0,1,0,0,null,{"$f":"L266+K266*2+J266*4+I266*8+H266*16+G266*32+F266*64+E266*128","v":4},null,null,0,0,0,0,0,0,1,0,0,null,null,0,0,0,0,0,0,0,0]
[null,null,{"$f":"C266+1","v":258},null,0,0,0,0,1,0,0,0,null,8,null,null,0,0,0,0,0,1,0,0,0,null,null,0,0,0,0,0,0,0,0]
[null,null,259,null,{"$f":"IF(_xlfn.XOR(R268,AB268), 1, 0)","v":0},{"$f":"IF(_xlfn.XOR(S268,AC268), 1, 0)","v":0},{"$f":"IF(_xlfn.XOR(T268,AD268), 1, 0)","v":0},{"$f":"IF(_xlfn.XOR(U268,AE268), 1, 0)","v":1},{"$f":"IF(_xlfn.XOR(V268,AF268), 1, 0)","v":0},{"$f":"IF(_xlfn.XOR(W268,AG268), 1, 0)","v":0},{"$f":"IF(_xlfn.XOR(X268,AH268), 1, 0)","v":0},{"$f":"IF(_xlfn.XOR(Y268,AI268), 1, 0)","v":0},null,16,null,null,{"$f":"E267","v":0},{"$f":"F267","v":0},{"$f":"G267","v":0},{"$f":"H267","v":0},{"$f":"I267","v":1},{"$f":"J267","v":0},{"$f":"K267","v":0},{"$f":"L267","v":0},{"$f":"M267","v":0},null,null,{"$f":"$Q268*R$5","v":0},{"$f":"$Q268*S$5","v":0},{"$f":"$Q268*T$5","v":0},{"$f":"$Q268*U$5","v":0},{"$f":"$Q268*V$5","v":0},{"$f":"$Q268*W$5","v":0},{"$f":"$Q268*X$5","v":0},{"$f":"$Q268*Y$5","v":0}]
[null,null,260,null,0,0,1,0,0,0,0,0,null,32,null,null,0,0,0,1,0,0,0,0,0,null,null,0,0,0,0,0,0,0,0]
[null,null,261,null,0,1,0,0,0,0,0,0,null,64,null,null,0,0,1,0,0,0,0,0,0,null,null,0,0,0,0,0,0,0,0]
[null,null,262,null,1,0,0,0,0,0,0,0,null,128,null,null,0,1,0,0,0,0,0,0,0,null,null,0,0,0,0,0,0,0,0]
[null,null,263,null,0,0,0,1,1,1,0,1,null,29,null,null,1,0,0,0,0,0,0,0,0,null,null,0,0,0,1,1,1,0,1]
[null,null,264,null,0,0,1,1,1,0,1,0,null,58,null,null,0,0,0,1,1,1,0,1,0,null,null,0,0,0,0,0,0,0,0]
[null,null,265,null,0,1,1,1,0,1,0,0,null,116,null,null,0,0,1,1,1,0,1,0,0,null,null,0,0,0,0,0,0,0,0]
[null,null,266,null,1,1,1,0,1,0,0,0,null,232,null,null,0,1,1,1,0,1,0,0,0,null,null,0,0,0,0,0,0,0,0]
[null,null,267,null,1,1,0,0,1,1,0,1,null,205,null,null,1,1,1,0,1,0,0,0,0,null,null,0,0,0,1,1,1,0,1]
[null,null,268,null,1,0,0,0,0,1,1,1,null,135,null,null,1,1,0,0,1,1,0,1,0,null,null,0,0,0,1,1,1,0,1]
[null,null,269,null,0,0,0,1,0,0,1,1,null,19,null,null,1,0,0,0,0,1,1,1,0,null,null,0,0,0,1,1,1,0,1]
[null,null,270,null,0,0,1,0,0,1,1,0,null,38,null,null,0,0,0,1,0,0,1,1,0,null,null,0,0,0,0,0,0,0,0]
[null,null,271,null,0,1,0,0,1,1,0,0,null,76,null,null,0,0,1,0,0,1,1,0,0,null,null,0,0,0,0,0,0,0,0]
[null,null,272,null,1,0,0,1,1,0,0,0,null,152,null,null,0,1,0,0,1,1,0,0,0,null,null,0,0,0,0,0,0,0,0]
[null,null,273,null,0,0,1,0,1,1,0,1,null,45,null,null,1,0,0,1,1,0,0,0,0,null,null,0,0,0,1,1,1,0,1]
[null,null,274,null,0,1,0,1,1,0,1,0,null,90,null,null,0,0,1,0,1,1,0,1,0,null,null,0,0,0,0,0,0,0,0]
[null,null,275,null,1,0,1,1,0,1,0,0,null,180,null,null,0,1,0,1,1,0,1,0,0,null,null,0,0,0,0,0,0,0,0]
[null,null,276,null,0,1,1,1,0,1,0,1,null,117,null,null,1,0,1,1,0,1,0,0,0,null,null,0,0,0,1,1,1,0,1]
[null,null,277,null,1,1,1,0,1,0,1,0,null,234,null,null,0,1,1,1,0,1,0,1,0,null,null,0,0,0,0,0,0,0,0]
[null,null,278,null,1,1,0,0,1,0,0,1,null,201,null,null,1,1,1,0,1,0,1,0,0,null,null,0,0,0,1,1,1,0,1]
[null,null,279,null,1,0,0,0,1,1,1,1,null,143,null,null,1,1,0,0,1,0,0,1,0,null,null,0,0,0,1,1,1,0,1]
[null,null,280,null,0,0,0,0,0,0,1,1,null,3,null,null,1,0,0,0,1,1,1,1,0,null,null,0,0,0,1,1,1,0,1]
[null,null,281,null,0,0,0,0,0,1,1,0,null,6,null,null,0,0,0,0,0,0,1,1,0,null,null,0,0,0,0,0,0,0,0]
[null,null,282,null,0,0,0,0,1,1,0,0,null,12,null,null,0,0,0,0,0,1,1,0,0,null,null,0,0,0,0,0,0,0,0]
[null,null,283,null,0,0,0,1,1,0,0,0,null,24,null,null,0,0,0,0,1,1,0,0,0,null,null,0,0,0,0,0,0,0,0]
[null,null,284,null,0,0,1,1,0,0,0,0,null,48,null,null,0,0,0,1,1,0,0,0,0,null,null,0,0,0,0,0,0,0,0]
[null,null,285,null,0,1,1,0,0,0,0,0,null,96,null,null,0,0,1,1,0,0,0,0,0,null,null,0,0,0,0,0,0,0,0]
[null,null,286,null,1,1,0,0,0,0,0,0,null,192,null,null,0,1,1,0,0,0,0,0,0,null,null,0,0,0,0,0,0,0,0]
[null,null,287,null,1,0,0,1,1,1,0,1,null,157,null,null,1,1,0,0,0,0,0,0,0,null,null,0,0,0,1,1,1,0,1]
[null,null,288,null,0,0,1,0,0,1,1,1,null,39,null,null,1,0,0,1,1,1,0,1,0,null,null,0,0,0,1,1,1,0,1]
[null,null,289,null,0,1,0,0,1,1,1,0,null,78,null,null,0,0,1,0,0,1,1,1,0,null,null,0,0,0,0,0,0,0,0]
[null,null,290,null,1,0,0,1,1,1,0,0,null,156,null,null,0,1,0,0,1,1,1,0,0,null,null,0,0,0,0,0,0,0,0]
[null,null,291,null,0,0,1,0,0,1,0,1,null,37,null,null,1,0,0,1,1,1,0,0,0,null,null,0,0,0,1,1,1,0,1]
[null,null,292,null,0,1,0,0,1,0,1,0,null,74,null,null,0,0,1,0,0,1,0,1,0,null,null,0,0,0,0,0,0,0,0]
[null,null,293,null,1,0,0,1,0,1,0,0,null,148,null,null,0,1,0,0,1,0,1,0,0,null,null,0,0,0,0,0,0,0,0]
[null,null,294,null,0,0,1,1,0,1,0,1,null,53,null,null,1,0,0,1,0,1,0,0,0,null,null,0,0,0,1,1,1,0,1]
[null,null,295,null,0,1,1,0,1,0,1,0,null,106,null,null,0,0,1,1,0,1,0,1,0,null,null,0,0,0,0,0,0,0,0]
[null,null,296,null,1,1,0,1,0,1,0,0,null,212,null,null,0,1,1,0,1,0,1,0,0,null,null,0,0,0,0,0,0,0,0]
[null,null,297,null,1,0,1,1,0,1,0,1,null,181,null,null,1,1,0,1,0,1,0,0,0,null,null,0,0,0,1,1,1,0,1]
[null,null,298,null,0,1,1,1,0,1,1,1,null,119,null,null,1,0,1,1,0,1,0,1,0,null,null,0,0,0,1,1,1,0,1]
[null,null,299,null,1,1,1,0,1,1,1,0,null,238,null,null,0,1,1,1,0,1,1,1,0,null,null,0,0,0,0,0,0,0,0]
[null,null,300,null,1,1,0,0,0,0,0,1,null,193,null,null,1,1,1,0,1,1,1,0,0,null,null,0,0,0,1,1,1,0,1]
[null,null,301,null,1,0,0,1,1,1,1,1,null,159,null,null,1,1,0,0,0,0,0,1,0,null,null,0,0,0,1,1,1,0,1]
[null,null,302,null,0,0,1,0,0,0,1,1,null,35,null,null,1,0,0,1,1,1,1,1,0,null,null,0,0,0,1,1,1,0,1]
[null,null,303]
[null,null,304]
[null,null,305]
[null,null,306]
[null,null,307]
[null,null,308]
[null,null,309]
[null,null,310]
[null,null,311]
[null,null,312]
[null,null,313]
[null,null,314]
[null,null,315]
[null,null,316]
[null,null,317]
[null,null,318]
[null,null,319]
[null,null,320]
[null,null,321]
[null,null,{"$f":"C330+1","v":322}]
[null,null,323]
[null,null,324]
[null,null,325]
[null,null,326]
[null,null,327]
[null,null,328]
[null,null,329]
[null,null,330]
[null,null,331]
[null,null,332]
[null,null,333]
[null,null,334]
[null,null,335]
[null,null,336]
[null,null,337]
[null,null,338]
[null,null,339]
[null,null,340]
[null,null,341]
[null,null,342]
[null,null,343]
[null,null,344]
[null,null,345]
[null,null,346]
[null,null,347]
[null,null,348]
[null,null,349]
[null,null,350]
[null,null,351]
[null,null,352]
[null,null,353]
[null,null,354]
[null,null,355]
[null,null,356]
[null,null,357]
[null,null,358]
[null,null,359]
[null,null,360]
[null,null,361]
[null,null,362]
[null,null,363]
[null,null,364]
[null,null,365]
[null,null,366]
[null,null,367]
[null,null,368]
[null,null,369]
[null,null,370]
[null,null,371]
[null,null,372]
[null,null,373]
[null,null,374]
[null,null,375]
[null,null,376]
[null,null,377]
[null,null,378]
[null,null,379]
[null,null,380]
[null,null,381]
[null,null,382]
[null,null,383]
[null,null,384]
[null,null,385]
[null,null,{"$f":"C394+1","v":386}]
[null,null,387]
[null,null,388]
[null,null,389]
[null,null,390]
[null,null,391]
[null,null,392]
[null,null,393]
[null,null,394]
[null,null,395]
[null,null,396]
[null,null,397]
[null,null,398]
[null,null,399]
[null,null,400]
[null,null,401]
[null,null,402]
[null,null,403]

{"sheet":"delitko","index":5,"n_rows":48,"n_cols":21,"rows_kept":48,"cut":false,"hidden":false,"merged":[]}
[]
[null,null,"Dělení mnohočlenu mnohočlenem",null,null,null,null,null,null,null,"máme Gx 4. stupně pro naši úlohu"]
[]
[null,null,null,null,null,null,null,null,null,null,null,"dělitel",null,null,null,null,null,null,"výsledek"]
[null,null,null,null,null,null,null,null,null,null,4,3,2,1,0]
[null,"DO tohoto řádku zadat",1,1,1,1,0,0,1,null,1,0,0,1,1,null,null,null,{"$f":"C6","v":1},{"$f":"D9","v":1},{"$f":"E12","v":1}]
[null,null,{"$f":"K6*$S$6","v":1},{"$f":"L6*$S$6","v":0},0,1,1]
[null,null,{"$f":"IF(_xlfn.XOR(C6,C7),1,0)","v":0},{"$f":"IF(_xlfn.XOR(D6,D7),1,0)","v":1},1,0,1]
[null,null,null,{"$f":"D8","v":1},{"$f":"E8","v":1},0,1,{"$f":"H6","v":0}]
[null,null,null,{"$f":"K6*$D$9","v":1},{"$f":"L6*$D$9","v":0},0,1,1]
[null,null,null,{"$f":"IF(_xlfn.XOR(D9,D10),1,0)","v":0},{"$f":"IF(_xlfn.XOR(E9,E10),1,0)","v":1},{"$f":"IF(_xlfn.XOR(F9,F10),1,0)","v":0},{"$f":"IF(_xlfn.XOR(G9,G10),1,0)","v":0},{"$f":"IF(_xlfn.XOR(H9,H10),1,0)","v":1}]
[null,null,null," ",{"$f":"E11","v":1},{"$f":"F11","v":0},0,1,{"$f":"I6","v":1}]
[null,null,null,null,{"$f":"$U$6*K6","v":1},{"$f":"$U$6*L6","v":0},0,1,1]
[null,null,"Zbytek",null,null,{"$f":"IF(_xlfn.XOR(F12,F13),1,0)","v":0},{"$f":"IF(_xlfn.XOR(G12,G13),1,0)","v":0},{"$f":"IF(_xlfn.XOR(H12,H13),1,0)","v":0},{"$f":"IF(_xlfn.XOR(I12,I13),1,0)","v":0}]
[]
[]
[]
[]
[null,null,null,"číslo",null,null,"zbytek"]
[]
[null,"Zabezpečujeme",0,0,0,0,0,0,0,null,1,0,0,1,1,null,"gener. Poly"]
[null,"3 bitové šíslo",0,0,1,0,0,1,1]
[null,"pomocí polynomu nahoře   10011",0,1,0,0,1,1,0]
[null,null,0,1,1,0,1,0,1]
[null,"Polynomy v ř. 21 - 28 tvoří kód",1,0,0,1,1,0,0]
[null,"náš kód má osm složek",1,0,1,1,1,1,1]
[null,"zabezpečili jsme 3 bitové číslo",1,1,0,1,0,1,0]
[null,null,1,1,1,1,0,0,1]
[null,"Kód je lineární"]
[]
[]
[null,"ověřujeme, že součet dvou kódových složek"]
[null,"patří do kódu "]
[]
[null,"jedna složka",1,1,1,1,0,0,1]
[null,"jiná složka",0,1,0,0,1,1,0]
[null,"součet",{"$f":"IF(_xlfn.XOR(C35,C36),1,0)","v":1},0,{"$f":"IF(_xlfn.XOR(E35,E36),1,0)","v":1},{"$f":"IF(_xlfn.XOR(F35,F36),1,0)","v":1},{"$f":"IF(_xlfn.XOR(G35,G36),1,0)","v":1},{"$f":"IF(_xlfn.XOR(H35,H36),1,0)","v":1},{"$f":"IF(_xlfn.XOR(I35,I36),1,0)","v":1}]
[]
[null,"ovšřujeme, že rotace kod. Složky"]
[null,"patří do kódu"]
[]
[null,"kódová složka",1,0,1,1,1,1,1,null,"Tak tohle neplatí, možná jsem to špatně pochopuil "]
[null,"RR",{"$f":"D42","v":0},{"$f":"E42","v":1},1,1,1,1,{"$f":"C42","v":1}]
[null,"RR"]
[null,"RR"]
[null,"RR"]
[]
[null,"atd."]

{"sheet":"zbytek","index":6,"n_rows":50,"n_cols":30,"rows_kept":50,"cut":false,"hidden":false,"merged":[]}
[null,null,null,"dělenec",null,null,null,null,null,null,null,null,null,null,null,null,null,null,null,null,"dělitel",null,null,null,null,null,null,null,null,"výsledek"]
[null,null,null,"( α9X14+α6 X13 +α2 X11 + α14 X10+α5 X9 + α1 X8 + α12 X7 +α4 X6 ) ",null,null,null,null,null," ",null,null,null,null,null,null,null,":",null,null,"( X6+ α10X5+ α14X4+ α4X3+ α6X2+ α9X+ α6 )",null,null,null,null,null,null,null,null,"α9 *X8"]
[]
[null,null,null,"X14","X13","X12","X11","X10"," X9 ","X8","X7  ","X6","X5 ","X4","X3","X2","X1",1,null,null,"X6","X5 ","X4","X3","X2","X1",1]
[null,"mocnina u X",null,14,13,12,11,10,9,8,7,6,5,4,3,2,1,0,null,null,6,5,4,3,2,1,0]
[null,"koeficient",null,"α9","α6 ",0,"α2  ","α14","α5  ","α1  ","α12","α4",0,0,0,0,0,0,null,null,1,"α10","α14","α4","α6 ","α9","α6 ",null,null," "]
[]
[null,"výsledek * dělitel",null,"α9","α9+10  ","α9+14  ","α9+4  ","α9+6  ","α9+9  ","α9+6  "]
[null,"posčítáno",null,"α9","α19  ","α23  ","α13  ","α15  ","α18  ","α15  "]
[null,"po odcyklení",null,"α9","α4  ","α8  ","α13  ",1,"α3  ",1]
[null,"odčítáne od řádku 6",null,0,"α12  ","α8  ","α14  ","α3  ","α11  ","α4","α12","α4",0,0,0,0,0,0,null,null,null,null,null,null,null,null,null,null,null,"α12 *X7"]
[]
[null,"výsledek * dělitel",null,null,"α12  ","α12+10  ","α12+14  ","α12+4  ","α12+6  ","α12+9  ","α12+6  "]
[null,"posčítáno",null,null,"α12  ","α22  ","α26  ","α16  ","α18  ","α21  ","α18  "]
[null,"po odcyklení",null,null,"α12  ","α7  ","α11  ","α1  ","α3  ","α6  ","α3  "]
[null,"odčítáne od řádku 11",null,null,0,"α11  ","α10  ","α7  ","α5  ","α12  ","α10  ","α4",0,0,0,0,0,0,null,null,null,null,null,null,null,null,null,null,null,"α11 *X6"]
[]
[null,"výsledek * dělitel",null,null,null,"α11  ","α11+10  ","α11+14  ","α11+4  ","α11+6  ","α11+9  ","α11+6  "]
[null,"posčítáno",null,null,null,"α11  ","α21  ","α25  ","α15  ","α17  ","α20  ","α17  "]
[null,"po odcyklení",null,null,null,"α11  ","α6  ","α10  ",1,"α2  ","α5  ","α2  "]
[null,"odčítáne od řádku 16",null,null,null,0,"α7  ","α6  ","α10  ","α7  ",1,"α10  ",0,0,0,0,0,0,null,null,null,null,null,null,null,null,null,null,null,"α7 *X5"]
[]
[null,"výsledek * dělitel",null,null,null,null,"α7  ","α7+10  ","α7+14  ","α7+4  ","α7+6  ","α7+9  ","α7+6  "]
[null,"posčítáno",null,null,"`",null,"α7  ","α17  ","α21  ","α11  ","α13  ","α18  ","α13  "]
[null,"po odcyklení",null,null,null,null,"α7  ","α2  ","α6  ","α11  ","α13  ","α3  ","α13  "]
[null,"odčítáne od řádku 21",null,null,null,null,0,"α3  ","α7  ","α8  ","α6  ","α12  ","α13  ",0,0,0,0,0,null,null,null,null,null,null,null,null,null,null,null,"α3 *X4"]
[null,null,null,null,null,null,null,null," "]
[null,"výsledek * dělitel",null,null,null,null,null,"α3  ","α3+10  ","α3+14  ","α3+4  ","α3+6  ","α3+9  ","α3+6  "]
[null,"posčítáno",null,null,null,null,null,"α3  ","α13  ","α17  ","α7  ","α9  ","α12  ","α9  "]
[null,"po odcyklení",null,null,null,null,null,"α3  ","α13  ","α2  ","α7  ","α9  ","α12  ","α9  "]
[null,"odčítáne od řádku 26",null,null,null,null,null,0,"α5  ",1,"α10  ","α8  ","α1  ","α9  ",0,0,0,0,null,null,null,null,null,null,null,null,null,null,null,"α5 *X3"]
[]
[null,"výsledek * dělitel",null,null,null,null,null,null,"α5  ","α5+10  ","α5+14  ","α5+4  ","α5+6  ","α5+9  ","α5+6  "]
[null,"posčítáno",null,null,null,null,null,null,"α5  ","α15  ","α19  ","α9  ","α11  ","α14  ","α11  "]
[null,"po odcyklení",null,null,null,null,null,null,"α5  ",1,"α4  ","α9  ","α11  ","α14  ","α11  "]
[null,"odčítáne od řádku 31",null,null,null,null,null,null,0,0,"α2  ","α12  ","α6  ","α4  ","α11  ",0,0,0,null,null,null,null,null,null,null,null,null,null,null,"0 *X2"]
[]
[null,"POzOR ! Jetam 0 ",null,null,null,null,null,null,null,null,null,null,null,null,null,null,null,null,null,null,null,null,null,null,null,null,null,null,null,"α2 *X1"]
[null,"výsledek * dělitel",null,null,null,null,null,null,null,null,"α2  ","α2+10  ","α2+14  ","α2+4  ","α2+6  ","α2+9  ","α2+6  "]
[null,"posčítáno",null,null,null,null,null,null,null,null,"α2  ","α12  ","α16  ","α6  ","α8  ","α11  ","α8  "]
[null,"po odcyklení",null,null,null,null,null,null,null,null,"α2  ","α12  ","α1  ","α6  ","α8  ","α11  ","α8  ",0]
[null,"odčítáne od řádku 36",null,null,null,null,null,null,null,null,0,0,"α11  ","α12  ","α7  ","α11  ","α8  ",0,null,null,null,null,null,null,null,null,null,null,null,"0*X0"]
[]
[null,"tadym je výsledek 0"]
[null,"takže bzchom odčítali samé 0"]
[]
[null,"takže tohe",null,null,null,null,null,null,null,null,null,null,"α11  ","α12  ","α7  ","α11  ","α8  ",0]
[null,"je zbytek",null,null,null,null,null,null,null,null,null,null,"X5 ","X4","X3","X2","X1",1]
[null,null,null,null,null,null,null,null,null,null,null,null,5,4,3,2,1,0]
[null,"a koeficienty alfa  se samozřejmě násobí X na něco "]

{"sheet":"List1","index":7,"n_rows":58,"n_cols":30,"rows_kept":58,"cut":false,"hidden":false,"merged":[]}
[null,null,null,"dělenec",null,null,null,null,null,null,null,null,null,null,null,null,null,null,null,null,"dělitel",null,null,null,null,null,null,null,null,"výsledek"]
[null,null,"α10 * x14 +  α14 *x13  +  α2 *x11  +  α4*x10   +  α13*x9   +  α1*x8   +  α6*x7  +  α12*x6  ",null,null,null,null,null,null," ",null,null,null,null,null,null,null,":",null,null,"X6 + α12X5 + X4 + α2X3 + α7X2  + α11X  + α6   ",null,null,null,null,null,null,null,null,"α10 *X8"]
[]
[null,null,null,"X14","X13","X12","X11","X10"," X9 ","X8","X7  ","X6","X5 ","X4","X3","X2","X1",1,null,null,"X6","X5 ","X4","X3","X2","X1",1]
[null,"mocnina u X",null,14,13,12,11,10,9,8,7,6,5,4,3,2,1,0,null,null,6,5,4,3,2,1,0]
[null,"koeficient u alfa",null,10,14,"!N",2,4,13,1,6,12,"!N","!N","!N","!N","!N","!N",null,null,0,12,0,2,7,11,6,null,null," "]
[]
[null,"výsledek * dělitel",null,"α10","α12+10  ","α10+0  ","α10+2  ","α10+7  ","α10+11  ","α10+6  "]
[null,"posčítáno",null,"α10","α22  ","α10","α12","α17","α21 ","α16"]
[null,"po odcyklení",null,10,7,10,12,2,6,1]
[null,"odčítáne od řádku 6",null," ",5,10,7,11,4,"!N",6,12,"!N","!N","!N","!N","!N","!N",null,null,null,null,null,null,null,null,null,null,null,"α5 *X7"]
[]
[null,"výsledek * dělitel",null,null,5,"5+12","5+0","5+2","5+7","5+11","5+6"]
[null,"posčítáno",null,null,5,17,5,7,13,16,11]
[null,"po odcyklení",null,null,5,2,5,7,13,1,11,12]
[null,"odčítáne od řádku 11",null,null," ",8,14,10,6,1,1,"!N","!N","!N","!N","!N","!N","!N",null,null,null,null,null,null,null,null,null,null,null,"α11 *X6"]
[]
[null,"výsledek * dělitel",null,null,null,"α8  "]
[null,"posčítáno",null,null,null,{"$f":"8+U6","v":8},{"$f":"8+V6","v":20},8,10,15,19,14]
[null,"po odcyklení",null,null,null,8,5,8,10,0,4,14]
[null,"odčítáne od řádku 16",null,null,null,null,7,2,9,12,5,14,"!N","!N","!N","!N","!N","!N",null,null,null,null,null,null,null,null,null,null,null,"α7 *X5"]
[]
[null,"výsledek * dělitel"]
[null,"posčítáno",null,null,"`",null,{"$f":"7+U6","v":7},{"$f":"7+V6","v":19},7,9,14,18,13]
[null,"po odcyklení",null,null,null,null,7,4,7,9,14,3,13,"!N","!N","!N","!N","!N"]
[null,"odčítáne od řádku 21",null,null,null,null," ",11,1,13,7,2,13,"!N","!N","!N","!N","!N",null,null,null,null,null,null,null,null,null,null,null,"α3 *X4"]
[null,null,null,null,null,null,null,null," "]
[null,"výsledek * dělitel"]
[null,"posčítáno",null,null,null,null,null,{"$f":"11+U6","v":11},{"$f":"11+V6","v":23},11,13,18,22,17]
[null,"po odcyklení",null,null,null,null,null,11,8,11,13,3,7,2]
[null,"odčítáne od řádku 26",null,null,null,null,null," ",14,5,0,14,0,2,"!N","!N","!N","!N",null,null,null,null,null,null,null,null,null,null,null,"α5 *X3"]
[]
[null,"výsledek * dělitel"]
[null,"posčítáno",null,null,null,null,null,null,{"$f":"14+U6","v":14},{"$f":"14+V6","v":26},14,16,21,25,20]
[null,"po odcyklení",null,null,null,null,null,null,14,11,14,1,6,10,5]
[null,"odčítáne od řádku 31",null,null,null,null,null,null," ",13,11,8,8,8,5,"!N","!N","!N",null,null,null,null,null,null,null,null,null,null,null,"0 *X2"]
[]
[null,"POzOR ! Jetam 0 ",null,null,null,null,null,null,null,null,null,null,null,null,null,null,null,null,null,null,null,null,null,null,null,null,null,null,null,"α2 *X1"]
[null,"výsledek * dělitel"]
[null,"posčítáno",null,null,null,null,null,null,null,{"$f":"13+U6","v":13},{"$f":"13+V6","v":25},13,15,20,24,19]
[null,"po odcyklení",null,null,null,null,null,null,null,13,10,13,0,5,9,4]
[null,"odčítáne od řádku 36",null,null,null,null,null,null,null,null,7,3,6,9,8,4,"!N","!N",null,null,null,null,null,null,null,null,null,null,null,"0*X0"]
[]
[null,"posčítáno",null,null,null,null,null,null,null,null,{"$f":"7+U6","v":7},{"$f":"7+V6","v":19},7,9,14,18,13]
[null,"po odcyklení",null,null,null,null,null,null,null,null,{"$f":"IF(K44>14,K44-15,K44)","v":7},{"$f":"IF(L44>14,L44-15,L44)","v":4},7,9,14,3,13]
[null,"odčítáne od řádku 42",null,null,null,null,null,null,null,null,null,0,3,"!N",1,0,13,"!N"]
[]
[null,"posčítáno"]
[null,"po odcyklení",null,null,null,null,null,null,null,null,null,{"$f":"0+U6","v":0},{"$f":"0+V6","v":12},0,2,7,11,"!N"]
[null,"odčítáne od řádku 46",null,null,null,null,null,null,null,null,null,null,5,0,13,13,5,"!N"]
[]
[]
[]
[]
[null,null,null,null,null,null,null,null,null,null,null,null,5,0,13,13,5,0]
[null,null,null,null,null,null,null,null,null,null,null,null,"α5 ",1,"α13  ","α13  ","α5 ",0]
[null,null,null,null,null,null,null,null,null,null,null,null,"X5 ","X4","X3","X2","X1",1]
[null,null,null,null,null,null,null,null,null,null,null,null,5,4,3,2,1,0]

{"sheet":"List3","index":8,"n_rows":26,"n_cols":27,"rows_kept":26,"cut":false,"hidden":false,"merged":[]}
[]
[]
[]
[]
[]
[null,null,null,null,1,8,12,5,3,7,4,1,8,9,5,2]
[]
[]
[null,null,null,null,2,6,4,5,6,7,8]
[null,null,null,null,3,14,16,10,9,14,12]
[null,null,null,null,null,null,null,null,null,null,null,null,null,null,null,null,null,null,null,null,null,null,null,null,"scitanec"]
[null,null,"poscitano",null," ",1,2,2,3,5,6,7,null,null,null,null,null,null,null,null,null,null,null,null,"scitanec",2]
[null,null,"odcykleno",null," ",2,5,7,8,4,3,2," "," "," "]
[null,null,"odecteno",null,null,16,21,17,17,18,15,2,null,"!N","!N"]
[]
[null,null,"poscitano",null," "," ",0,12,0,2,7,11,6," "]
[null,null,"odcykleno",null," "," ",0,12,0,2,7,11,6," "," "]
[null,null,"odecteno",null,null,null,null,null,null,null,null,null,null,"!N","!N"]
[null,null,null,null,null,null,null,null,null,null,null,null,null,null,null,null,null,null,null,null,null,null,null,null,"soucet",null,{"$f":"Z11+Z12","v":2}]
[null,null,"poscitano",null," "," "," ",0,12,0,2,7,11,6]
[null,null,"odcykleno",null," "," "," ",0,12,0,2,7,11,6," "]
[null,null,"odecteno",null,null,null,null,null,null,null,null,null,null,null,"!N"]
[]
[null,null,"poscitano",null," "," "," "," ",0,12,0,2,7,11,6]
[null,null,"odcykleno",null," "," "," "," ",0,12,0,2,7,11,6]
[null,null,"odecteno"]